Workbook

Sheet Resumen
A1: RESUMEN DE CONTROL DE MEDICIONES DE FRENOS
A2: Indicador | B2: Valor | D2: Resultado | E2: Conteo
A3: Total de registros | B3: =COUNTA(Captura!A4:A103) | D3: Sin medición | E3: =COUNTIF(Captura!$O$4:$O$103,D3)
A4: Evaluados | B4: =COUNTIF(Captura!$O$4:$O$103,"Debajo del límite")+COUNTIF(Captura!$O$4:$O$103,"En límite")+COUNTIF(Captura!$O$4:$O$103,"Margen reducido")+COUNTIF(Captura!$O$4:$O$103,"Sobre límite") | D4: Incompleto | E4: =COUNTIF(Captura!$O$4:$O$103,D4)
A5: Requieren revisión | B5: =COUNTIF(Captura!$O$4:$O$103,"Debajo del límite")+COUNTIF(Captura!$O$4:$O$103,"En límite")+COUNTIF(Captura!$O$4:$O$103,"Margen reducido") | D5: Falta límite | E5: =COUNTIF(Captura!$O$4:$O$103,D5)
A6: Porcentaje para revisión | B6: =IFERROR(B5/B4,0) | D6: Debajo del límite | E6: =COUNTIF(Captura!$O$4:$O$103,D6)
A7: Incompleto | B7: =COUNTIF(Captura!$O$4:$O$103,"Incompleto") | D7: En límite | E7: =COUNTIF(Captura!$O$4:$O$103,D7)
A8: Sin medición | B8: =COUNTIF(Captura!$O$4:$O$103,"Sin medición") | D8: Margen reducido | E8: =COUNTIF(Captura!$O$4:$O$103,D8)
A9: Falta límite | B9: =COUNTIF(Captura!$O$4:$O$103,"Falta límite") | D9: Sobre límite | E9: =COUNTIF(Captura!$O$4:$O$103,D9)
A11: ALCANCE
A12: No es diagnóstico automotriz. | B12: No determina seguridad de circulación. | C12: No autoriza reparaciones. | D12: Requiere revisión de personal competente. | E12: No es certificado ni documento oficial.

Sheet Captura
A1: USO ADMINISTRATIVO: transcriba mediciones y límites de una fuente técnica aplicable. No es diagnóstico, no determina seguridad, no autoriza reparaciones ni constituye certificado o documento oficial.
A3: Folio | B3: Fecha de medición | C3: Referencia interna | D3: Alias de unidad | E3: Eje | F3: Lado | G3: Pieza | H3: Lectura 1 (mm) | I3: Lectura 2 (mm) | J3: Lectura 3 (mm) | K3: Límite de servicio (mm) | L3: Fuente del límite | M3: Mínimo medido (mm) | N3: Margen (mm) | O3: Resultado | P3: Capturó | Q3: Observaciones
M4: =IF(COUNT(H4:J4)=0,"",MIN(H4:J4)) | N4: =IF(OR(M4="",K4=""),"",M4-K4) | O4: =IF(COUNTA(A4:L4)=0,"",IF(COUNT(H4:J4)=0,"Sin medición",IF(COUNT(H4:J4)<'Parámetros'!$B$2,"Incompleto",IF(K4="","Falta límite",IF(M4<K4,"Debajo del límite",IF(M4=K4,"En límite",IF(N4<='Parámetros'!$B$3,"Margen reducido","Sobre límite")))))))
M5: =IF(COUNT(H5:J5)=0,"",MIN(H5:J5)) | N5: =IF(OR(M5="",K5=""),"",M5-K5) | O5: =IF(COUNTA(A5:L5)=0,"",IF(COUNT(H5:J5)=0,"Sin medición",IF(COUNT(H5:J5)<'Parámetros'!$B$2,"Incompleto",IF(K5="","Falta límite",IF(M5<K5,"Debajo del límite",IF(M5=K5,"En límite",IF(N5<='Parámetros'!$B$3,"Margen reducido","Sobre límite")))))))
M6: =IF(COUNT(H6:J6)=0,"",MIN(H6:J6)) | N6: =IF(OR(M6="",K6=""),"",M6-K6) | O6: =IF(COUNTA(A6:L6)=0,"",IF(COUNT(H6:J6)=0,"Sin medición",IF(COUNT(H6:J6)<'Parámetros'!$B$2,"Incompleto",IF(K6="","Falta límite",IF(M6<K6,"Debajo del límite",IF(M6=K6,"En límite",IF(N6<='Parámetros'!$B$3,"Margen reducido","Sobre límite")))))))
M7: =IF(COUNT(H7:J7)=0,"",MIN(H7:J7)) | N7: =IF(OR(M7="",K7=""),"",M7-K7) | O7: =IF(COUNTA(A7:L7)=0,"",IF(COUNT(H7:J7)=0,"Sin medición",IF(COUNT(H7:J7)<'Parámetros'!$B$2,"Incompleto",IF(K7="","Falta límite",IF(M7<K7,"Debajo del límite",IF(M7=K7,"En límite",IF(N7<='Parámetros'!$B$3,"Margen reducido","Sobre límite")))))))
M8: =IF(COUNT(H8:J8)=0,"",MIN(H8:J8)) | N8: =IF(OR(M8="",K8=""),"",M8-K8) | O8: =IF(COUNTA(A8:L8)=0,"",IF(COUNT(H8:J8)=0,"Sin medición",IF(COUNT(H8:J8)<'Parámetros'!$B$2,"Incompleto",IF(K8="","Falta límite",IF(M8<K8,"Debajo del límite",IF(M8=K8,"En límite",IF(N8<='Parámetros'!$B$3,"Margen reducido","Sobre límite")))))))
M9: =IF(COUNT(H9:J9)=0,"",MIN(H9:J9)) | N9: =IF(OR(M9="",K9=""),"",M9-K9) | O9: =IF(COUNTA(A9:L9)=0,"",IF(COUNT(H9:J9)=0,"Sin medición",IF(COUNT(H9:J9)<'Parámetros'!$B$2,"Incompleto",IF(K9="","Falta límite",IF(M9<K9,"Debajo del límite",IF(M9=K9,"En límite",IF(N9<='Parámetros'!$B$3,"Margen reducido","Sobre límite")))))))
M10: =IF(COUNT(H10:J10)=0,"",MIN(H10:J10)) | N10: =IF(OR(M10="",K10=""),"",M10-K10) | O10: =IF(COUNTA(A10:L10)=0,"",IF(COUNT(H10:J10)=0,"Sin medición",IF(COUNT(H10:J10)<'Parámetros'!$B$2,"Incompleto",IF(K10="","Falta límite",IF(M10<K10,"Debajo del límite",IF(M10=K10,"En límite",IF(N10<='Parámetros'!$B$3,"Margen reducido","Sobre límite")))))))
M11: =IF(COUNT(H11:J11)=0,"",MIN(H11:J11)) | N11: =IF(OR(M11="",K11=""),"",M11-K11) | O11: =IF(COUNTA(A11:L11)=0,"",IF(COUNT(H11:J11)=0,"Sin medición",IF(COUNT(H11:J11)<'Parámetros'!$B$2,"Incompleto",IF(K11="","Falta límite",IF(M11<K11,"Debajo del límite",IF(M11=K11,"En límite",IF(N11<='Parámetros'!$B$3,"Margen reducido","Sobre límite")))))))
M12: =IF(COUNT(H12:J12)=0,"",MIN(H12:J12)) | N12: =IF(OR(M12="",K12=""),"",M12-K12) | O12: =IF(COUNTA(A12:L12)=0,"",IF(COUNT(H12:J12)=0,"Sin medición",IF(COUNT(H12:J12)<'Parámetros'!$B$2,"Incompleto",IF(K12="","Falta límite",IF(M12<K12,"Debajo del límite",IF(M12=K12,"En límite",IF(N12<='Parámetros'!$B$3,"Margen reducido","Sobre límite")))))))
M13: =IF(COUNT(H13:J13)=0,"",MIN(H13:J13)) | N13: =IF(OR(M13="",K13=""),"",M13-K13) | O13: =IF(COUNTA(A13:L13)=0,"",IF(COUNT(H13:J13)=0,"Sin medición",IF(COUNT(H13:J13)<'Parámetros'!$B$2,"Incompleto",IF(K13="","Falta límite",IF(M13<K13,"Debajo del límite",IF(M13=K13,"En límite",IF(N13<='Parámetros'!$B$3,"Margen reducido","Sobre límite")))))))
M14: =IF(COUNT(H14:J14)=0,"",MIN(H14:J14)) | N14: =IF(OR(M14="",K14=""),"",M14-K14) | O14: =IF(COUNTA(A14:L14)=0,"",IF(COUNT(H14:J14)=0,"Sin medición",IF(COUNT(H14:J14)<'Parámetros'!$B$2,"Incompleto",IF(K14="","Falta límite",IF(M14<K14,"Debajo del límite",IF(M14=K14,"En límite",IF(N14<='Parámetros'!$B$3,"Margen reducido","Sobre límite")))))))
M15: =IF(COUNT(H15:J15)=0,"",MIN(H15:J15)) | N15: =IF(OR(M15="",K15=""),"",M15-K15) | O15: =IF(COUNTA(A15:L15)=0,"",IF(COUNT(H15:J15)=0,"Sin medición",IF(COUNT(H15:J15)<'Parámetros'!$B$2,"Incompleto",IF(K15="","Falta límite",IF(M15<K15,"Debajo del límite",IF(M15=K15,"En límite",IF(N15<='Parámetros'!$B$3,"Margen reducido","Sobre límite")))))))
... M103: =IF(COUNT(H103:J103)=0,"",MIN(H103:J103)) | N103: =IF(OR(M103="",K103=""),"",M103-K103) | O103: =IF(COUNTA(A103:L103)=0,"",IF(COUNT(H103:J103)=0,"Sin medición",IF(COUNT(H103:J103)<'Parámetros'!$B$2,"Incompleto",IF(K103="","Falta límite",IF(M103<K103,"Debajo del límite",IF(M103=K103,"En límite",IF(N103<='Parámetros'!$B$3,"Margen reducido","Sobre límite")))))))

Sheet Parámetros
A1: PARÁMETROS EDITABLES Y LISTAS DE CAPTURA
A2: LecturasRequeridas | B2: 3 | D2: Delantero | E2: Izquierdo | F2: Disco
A3: MargenAlerta (mm) | B3: 0.5 | D3: Trasero | E3: Derecho | F3: Pastilla interior
A4: FechaCorte | B4: 46275 | F4: Pastilla exterior
A5: EspesorMaximo (mm) | B5: 80
A6: Listas editables | B6: D: Eje | E: Lado | F: Pieza
A8: INDICACIONES BREVES
A9: Capture únicamente mediciones proporcionadas por personal técnico competente.
A10: Transcriba el límite y su fuente técnica aplicable; no use los ejemplos como referencia real.
A11: El resultado es una clasificación para revisión administrativa, no un diagnóstico automotriz.
A12: El libro no determina seguridad de circulación, no autoriza reparaciones y no es documento oficial.
A13: Las celdas amarillas contienen parámetros o listas modificables por el taller.

Sheet Ejemplos
A1: DATOS FICTICIOS: NO USAR PARA DECISIONES REALES
A3: Folio | B3: Fecha de medición | C3: Referencia interna | D3: Alias de unidad | E3: Eje | F3: Lado | G3: Pieza | H3: Lectura 1 (mm) | I3: Lectura 2 (mm) | J3: Lectura 3 (mm) | K3: Límite de servicio (mm) | L3: Fuente del límite | M3: Mínimo medido (mm) | N3: Margen (mm) | O3: Resultado | P3: Capturó | Q3: Observaciones
A4: DEMO-001 | B4: 46266 | C4: CTRL-FICT-001 | D4: Unidad ficticia A | E4: Delantero | F4: Izquierdo | G4: Disco | H4: 25.2 | I4: 25.1 | J4: 25 | K4: 24 | L4: Fuente técnica ficticia FT-01 | M4: =IF(COUNT(H4:J4)=0,"",MIN(H4:J4)) | N4: =IF(OR(M4="",K4=""),"",M4-K4) | O4: =IF(COUNTA(A4:L4)=0,"",IF(COUNT(H4:J4)=0,"Sin medición",IF(COUNT(H4:J4)<'Parámetros'!$B$2,"Incompleto",IF(K4="","Falta límite",IF(M4<K4,"Debajo del límite",IF(M4=K4,"En límite",IF(N4<='Parámetros'!$B$3,"Margen reducido","Sobre límite"))))))) | P4: AUX-FICT | Q4: Ejemplo ficticio de capacitación
A5: DEMO-002 | B5: 46266 | C5: CTRL-FICT-002 | D5: Unidad ficticia A | E5: Delantero | F5: Derecho | G5: Disco | H5: 24.3 | I5: 24.1 | J5: 24.2 | K5: 24 | L5: Fuente técnica ficticia FT-01 | M5: =IF(COUNT(H5:J5)=0,"",MIN(H5:J5)) | N5: =IF(OR(M5="",K5=""),"",M5-K5) | O5: =IF(COUNTA(A5:L5)=0,"",IF(COUNT(H5:J5)=0,"Sin medición",IF(COUNT(H5:J5)<'Parámetros'!$B$2,"Incompleto",IF(K5="","Falta límite",IF(M5<K5,"Debajo del límite",IF(M5=K5,"En límite",IF(N5<='Parámetros'!$B$3,"Margen reducido","Sobre límite"))))))) | P5: AUX-FICT | Q5: Ejemplo ficticio de capacitación
A6: DEMO-003 | B6: 46267 | C6: CTRL-FICT-003 | D6: Unidad ficticia B | E6: Delantero | F6: Izquierdo | G6: Pastilla interior | H6: 7.2 | I6: 7.1 | J6: 7 | K6: 3 | L6: Fuente técnica ficticia FT-02 | M6: =IF(COUNT(H6:J6)=0,"",MIN(H6:J6)) | N6: =IF(OR(M6="",K6=""),"",M6-K6) | O6: =IF(COUNTA(A6:L6)=0,"",IF(COUNT(H6:J6)=0,"Sin medición",IF(COUNT(H6:J6)<'Parámetros'!$B$2,"Incompleto",IF(K6="","Falta límite",IF(M6<K6,"Debajo del límite",IF(M6=K6,"En límite",IF(N6<='Parámetros'!$B$3,"Margen reducido","Sobre límite"))))))) | P6: CAP-FICT | Q6: Ejemplo ficticio de capacitación
A7: DEMO-004 | B7: 46267 | C7: CTRL-FICT-004 | D7: Unidad ficticia B | E7: Delantero | F7: Izquierdo | G7: Pastilla exterior | H7: 3 | I7: 3.1 | J7: 3.2 | K7: 3 | L7: Fuente técnica ficticia FT-02 | M7: =IF(COUNT(H7:J7)=0,"",MIN(H7:J7)) | N7: =IF(OR(M7="",K7=""),"",M7-K7) | O7: =IF(COUNTA(A7:L7)=0,"",IF(COUNT(H7:J7)=0,"Sin medición",IF(COUNT(H7:J7)<'Parámetros'!$B$2,"Incompleto",IF(K7="","Falta límite",IF(M7<K7,"Debajo del límite",IF(M7=K7,"En límite",IF(N7<='Parámetros'!$B$3,"Margen reducido","Sobre límite"))))))) | P7: CAP-FICT | Q7: Ejemplo ficticio de capacitación
A8: DEMO-005 | B8: 46268 | C8: CTRL-FICT-005 | D8: Unidad ficticia C | E8: Trasero | F8: Derecho | G8: Disco | H8: 9.8 | I8: 9.9 | J8: 9.7 | K8: 10 | L8: Fuente técnica ficticia FT-03 | M8: =IF(COUNT(H8:J8)=0,"",MIN(H8:J8)) | N8: =IF(OR(M8="",K8=""),"",M8-K8) | O8: =IF(COUNTA(A8:L8)=0,"",IF(COUNT(H8:J8)=0,"Sin medición",IF(COUNT(H8:J8)<'Parámetros'!$B$2,"Incompleto",IF(K8="","Falta límite",IF(M8<K8,"Debajo del límite",IF(M8=K8,"En límite",IF(N8<='Parámetros'!$B$3,"Margen reducido","Sobre límite"))))))) | P8: REV-FICT | Q8: Ejemplo ficticio de capacitación
A9: DEMO-006 | B9: 46269 | C9: CTRL-FICT-006 | D9: Unidad ficticia D | E9: Trasero | F9: Izquierdo | G9: Pastilla interior | H9: 4 | J9: 4.1 | K9: 3 | L9: Fuente técnica ficticia FT-04 | M9: =IF(COUNT(H9:J9)=0,"",MIN(H9:J9)) | N9: =IF(OR(M9="",K9=""),"",M9-K9) | O9: =IF(COUNTA(A9:L9)=0,"",IF(COUNT(H9:J9)=0,"Sin medición",IF(COUNT(H9:J9)<'Parámetros'!$B$2,"Incompleto",IF(K9="","Falta límite",IF(M9<K9,"Debajo del límite",IF(M9=K9,"En límite",IF(N9<='Parámetros'!$B$3,"Margen reducido","Sobre límite"))))))) | P9: REV-FICT | Q9: Una lectura ficticia quedó pendiente
A10: DEMO-007 | B10: 46270 | C10: CTRL-FICT-007 | D10: Unidad ficticia E | E10: Delantero | F10: Derecho | G10: Disco | K10: 8 | L10: Fuente técnica ficticia FT-05 | M10: =IF(COUNT(H10:J10)=0,"",MIN(H10:J10)) | N10: =IF(OR(M10="",K10=""),"",M10-K10) | O10: =IF(COUNTA(A10:L10)=0,"",IF(COUNT(H10:J10)=0,"Sin medición",IF(COUNT(H10:J10)<'Parámetros'!$B$2,"Incompleto",IF(K10="","Falta límite",IF(M10<K10,"Debajo del límite",IF(M10=K10,"En límite",IF(N10<='Parámetros'!$B$3,"Margen reducido","Sobre límite"))))))) | P10: ADM-FICT | Q10: Sin mediciones en este ejemplo ficticio
A11: DEMO-008 | B11: 46271 | C11: CTRL-FICT-008 | D11: Unidad ficticia F | E11: Trasero | F11: Derecho | G11: Pastilla exterior | H11: 5 | I11: 5.1 | J11: 5 | M11: =IF(COUNT(H11:J11)=0,"",MIN(H11:J11)) | N11: =IF(OR(M11="",K11=""),"",M11-K11) | O11: =IF(COUNTA(A11:L11)=0,"",IF(COUNT(H11:J11)=0,"Sin medición",IF(COUNT(H11:J11)<'Parámetros'!$B$2,"Incompleto",IF(K11="","Falta límite",IF(M11<K11,"Debajo del límite",IF(M11=K11,"En límite",IF(N11<='Parámetros'!$B$3,"Margen reducido","Sobre límite"))))))) | P11: ADM-FICT | Q11: Límite ficticio pendiente de transcripción
A12: DEMO-009 | B12: 46272 | C12: CTRL-FICT-009 | D12: Unidad ficticia G | E12: Trasero | F12: Izquierdo | G12: Disco | H12: 11 | I12: 10.7 | J12: 10.8 | K12: 10.5 | L12: Fuente técnica ficticia FT-06 | M12: =IF(COUNT(H12:J12)=0,"",MIN(H12:J12)) | N12: =IF(OR(M12="",K12=""),"",M12-K12) | O12: =IF(COUNTA(A12:L12)=0,"",IF(COUNT(H12:J12)=0,"Sin medición",IF(COUNT(H12:J12)<'Parámetros'!$B$2,"Incompleto",IF(K12="","Falta límite",IF(M12<K12,"Debajo del límite",IF(M12=K12,"En límite",IF(N12<='Parámetros'!$B$3,"Margen reducido","Sobre límite"))))))) | P12: CAP-FICT | Q12: Ejemplo ficticio de capacitación
A13: DEMO-010 | B13: 46273 | C13: CTRL-FICT-010 | D13: Unidad ficticia H | E13: Trasero | F13: Derecho | G13: Pastilla exterior | H13: 2.8 | I13: 2.9 | J13: 2.7 | K13: 3 | L13: Fuente técnica ficticia FT-07 | M13: =IF(COUNT(H13:J13)=0,"",MIN(H13:J13)) | N13: =IF(OR(M13="",K13=""),"",M13-K13) | O13: =IF(COUNTA(A13:L13)=0,"",IF(COUNT(H13:J13)=0,"Sin medición",IF(COUNT(H13:J13)<'Parámetros'!$B$2,"Incompleto",IF(K13="","Falta límite",IF(M13<K13,"Debajo del límite",IF(M13=K13,"En límite",IF(N13<='Parámetros'!$B$3,"Margen reducido","Sobre límite"))))))) | P13: AUX-FICT | Q13: Ejemplo ficticio de capacitación
