Workbook

Sheet Resumen
A1: Mapa de estacionamiento del taller | I1: Consulta: | J1: =NOW()
A2: Uso interno | B2: Ubicación operativa | D2: Sin datos personales | G2: Sin macros ni vínculos | J2: No sustituye registros oficiales
A4: Cajones habilitados | B4: =COUNTIF(Cajones!$E$2:$E$41,"Sí") | C4: Cajones ocupados | D4: =COUNTIF(Cajones!$G$2:$G$41,">0") | E4: Cajones libres | F4: =B4-D4 | G4: Conflictos | H4: =COUNTIF(Cajones!$G$2:$G$41,">1") | I4: Estancias prolongadas | J4: =COUNTIF(Cajones!$K$2:$K$41,">"&Catálogos!$B$2) | K4: Porcentaje de ocupación | L4: =IFERROR(D4/B4,0)
A6: Zona | B6: 01 | C6: 02 | D6: 03 | E6: 04 | F6: 05 | G6: 06 | H6: 07 | I6: 08 | J6: 09 | K6: 10
A7: Zona A | B7: ="A-01"&CHAR(10)&IFERROR(IF(OR(XLOOKUP("A-01",Cajones!$A$2:$A$41,Cajones!$G$2:$G$41)>1,AND(XLOOKUP("A-01",Cajones!$A$2:$A$41,Cajones!$E$2:$E$41)="No",XLOOKUP("A-01",Cajones!$A$2:$A$41,Cajones!$G$2:$G$41)>0)),"CONFLICTO",IF(XLOOKUP("A-01",Cajones!$A$2:$A$41,Cajones!$E$2:$E$41)="No","NO HABILITADO",IF(XLOOKUP("A-01",Cajones!$A$2:$A$41,Cajones!$G$2:$G$41)=0,"LIBRE",XLOOKUP("A-01",Cajones!$A$2:$A$41,Cajones!$I$2:$I$41)))),"") | C7: ="A-02"&CHAR(10)&IFERROR(IF(OR(XLOOKUP("A-02",Cajones!$A$2:$A$41,Cajones!$G$2:$G$41)>1,AND(XLOOKUP("A-02",Cajones!$A$2:$A$41,Cajones!$E$2:$E$41)="No",XLOOKUP("A-02",Cajones!$A$2:$A$41,Cajones!$G$2:$G$41)>0)),"CONFLICTO",IF(XLOOKUP("A-02",Cajones!$A$2:$A$41,Cajones!$E$2:$E$41)="No","NO HABILITADO",IF(XLOOKUP("A-02",Cajones!$A$2:$A$41,Cajones!$G$2:$G$41)=0,"LIBRE",XLOOKUP("A-02",Cajones!$A$2:$A$41,Cajones!$I$2:$I$41)))),"") | D7: ="A-03"&CHAR(10)&IFERROR(IF(OR(XLOOKUP("A-03",Cajones!$A$2:$A$41,Cajones!$G$2:$G$41)>1,AND(XLOOKUP("A-03",Cajones!$A$2:$A$41,Cajones!$E$2:$E$41)="No",XLOOKUP("A-03",Cajones!$A$2:$A$41,Cajones!$G$2:$G$41)>0)),"CONFLICTO",IF(XLOOKUP("A-03",Cajones!$A$2:$A$41,Cajones!$E$2:$E$41)="No","NO HABILITADO",IF(XLOOKUP("A-03",Cajones!$A$2:$A$41,Cajones!$G$2:$G$41)=0,"LIBRE",XLOOKUP("A-03",Cajones!$A$2:$A$41,Cajones!$I$2:$I$41)))),"") | E7: ="A-04"&CHAR(10)&IFERROR(IF(OR(XLOOKUP("A-04",Cajones!$A$2:$A$41,Cajones!$G$2:$G$41)>1,AND(XLOOKUP("A-04",Cajones!$A$2:$A$41,Cajones!$E$2:$E$41)="No",XLOOKUP("A-04",Cajones!$A$2:$A$41,Cajones!$G$2:$G$41)>0)),"CONFLICTO",IF(XLOOKUP("A-04",Cajones!$A$2:$A$41,Cajones!$E$2:$E$41)="No","NO HABILITADO",IF(XLOOKUP("A-04",Cajones!$A$2:$A$41,Cajones!$G$2:$G$41)=0,"LIBRE",XLOOKUP("A-04",Cajones!$A$2:$A$41,Cajones!$I$2:$I$41)))),"") | F7: ="A-05"&CHAR(10)&IFERROR(IF(OR(XLOOKUP("A-05",Cajones!$A$2:$A$41,Cajones!$G$2:$G$41)>1,AND(XLOOKUP("A-05",Cajones!$A$2:$A$41,Cajones!$E$2:$E$41)="No",XLOOKUP("A-05",Cajones!$A$2:$A$41,Cajones!$G$2:$G$41)>0)),"CONFLICTO",IF(XLOOKUP("A-05",Cajones!$A$2:$A$41,Cajones!$E$2:$E$41)="No","NO HABILITADO",IF(XLOOKUP("A-05",Cajones!$A$2:$A$41,Cajones!$G$2:$G$41)=0,"LIBRE",XLOOKUP("A-05",Cajones!$A$2:$A$41,Cajones!$I$2:$I$41)))),"") | G7: ="A-06"&CHAR(10)&IFERROR(IF(OR(XLOOKUP("A-06",Cajones!$A$2:$A$41,Cajones!$G$2:$G$41)>1,AND(XLOOKUP("A-06",Cajones!$A$2:$A$41,Cajones!$E$2:$E$41)="No",XLOOKUP("A-06",Cajones!$A$2:$A$41,Cajones!$G$2:$G$41)>0)),"CONFLICTO",IF(XLOOKUP("A-06",Cajones!$A$2:$A$41,Cajones!$E$2:$E$41)="No","NO HABILITADO",IF(XLOOKUP("A-06",Cajones!$A$2:$A$41,Cajones!$G$2:$G$41)=0,"LIBRE",XLOOKUP("A-06",Cajones!$A$2:$A$41,Cajones!$I$2:$I$41)))),"") | H7: ="A-07"&CHAR(10)&IFERROR(IF(OR(XLOOKUP("A-07",Cajones!$A$2:$A$41,Cajones!$G$2:$G$41)>1,AND(XLOOKUP("A-07",Cajones!$A$2:$A$41,Cajones!$E$2:$E$41)="No",XLOOKUP("A-07",Cajones!$A$2:$A$41,Cajones!$G$2:$G$41)>0)),"CONFLICTO",IF(XLOOKUP("A-07",Cajones!$A$2:$A$41,Cajones!$E$2:$E$41)="No","NO HABILITADO",IF(XLOOKUP("A-07",Cajones!$A$2:$A$41,Cajones!$G$2:$G$41)=0,"LIBRE",XLOOKUP("A-07",Cajones!$A$2:$A$41,Cajones!$I$2:$I$41)))),"") | I7: ="A-08"&CHAR(10)&IFERROR(IF(OR(XLOOKUP("A-08",Cajones!$A$2:$A$41,Cajones!$G$2:$G$41)>1,AND(XLOOKUP("A-08",Cajones!$A$2:$A$41,Cajones!$E$2:$E$41)="No",XLOOKUP("A-08",Cajones!$A$2:$A$41,Cajones!$G$2:$G$41)>0)),"CONFLICTO",IF(XLOOKUP("A-08",Cajones!$A$2:$A$41,Cajones!$E$2:$E$41)="No","NO HABILITADO",IF(XLOOKUP("A-08",Cajones!$A$2:$A$41,Cajones!$G$2:$G$41)=0,"LIBRE",XLOOKUP("A-08",Cajones!$A$2:$A$41,Cajones!$I$2:$I$41)))),"") | J7: ="A-09"&CHAR(10)&IFERROR(IF(OR(XLOOKUP("A-09",Cajones!$A$2:$A$41,Cajones!$G$2:$G$41)>1,AND(XLOOKUP("A-09",Cajones!$A$2:$A$41,Cajones!$E$2:$E$41)="No",XLOOKUP("A-09",Cajones!$A$2:$A$41,Cajones!$G$2:$G$41)>0)),"CONFLICTO",IF(XLOOKUP("A-09",Cajones!$A$2:$A$41,Cajones!$E$2:$E$41)="No","NO HABILITADO",IF(XLOOKUP("A-09",Cajones!$A$2:$A$41,Cajones!$G$2:$G$41)=0,"LIBRE",XLOOKUP("A-09",Cajones!$A$2:$A$41,Cajones!$I$2:$I$41)))),"") | K7: ="A-10"&CHAR(10)&IFERROR(IF(OR(XLOOKUP("A-10",Cajones!$A$2:$A$41,Cajones!$G$2:$G$41)>1,AND(XLOOKUP("A-10",Cajones!$A$2:$A$41,Cajones!$E$2:$E$41)="No",XLOOKUP("A-10",Cajones!$A$2:$A$41,Cajones!$G$2:$G$41)>0)),"CONFLICTO",IF(XLOOKUP("A-10",Cajones!$A$2:$A$41,Cajones!$E$2:$E$41)="No","NO HABILITADO",IF(XLOOKUP("A-10",Cajones!$A$2:$A$41,Cajones!$G$2:$G$41)=0,"LIBRE",XLOOKUP("A-10",Cajones!$A$2:$A$41,Cajones!$I$2:$I$41)))),"")
A8: Zona B | B8: ="B-01"&CHAR(10)&IFERROR(IF(OR(XLOOKUP("B-01",Cajones!$A$2:$A$41,Cajones!$G$2:$G$41)>1,AND(XLOOKUP("B-01",Cajones!$A$2:$A$41,Cajones!$E$2:$E$41)="No",XLOOKUP("B-01",Cajones!$A$2:$A$41,Cajones!$G$2:$G$41)>0)),"CONFLICTO",IF(XLOOKUP("B-01",Cajones!$A$2:$A$41,Cajones!$E$2:$E$41)="No","NO HABILITADO",IF(XLOOKUP("B-01",Cajones!$A$2:$A$41,Cajones!$G$2:$G$41)=0,"LIBRE",XLOOKUP("B-01",Cajones!$A$2:$A$41,Cajones!$I$2:$I$41)))),"") | C8: ="B-02"&CHAR(10)&IFERROR(IF(OR(XLOOKUP("B-02",Cajones!$A$2:$A$41,Cajones!$G$2:$G$41)>1,AND(XLOOKUP("B-02",Cajones!$A$2:$A$41,Cajones!$E$2:$E$41)="No",XLOOKUP("B-02",Cajones!$A$2:$A$41,Cajones!$G$2:$G$41)>0)),"CONFLICTO",IF(XLOOKUP("B-02",Cajones!$A$2:$A$41,Cajones!$E$2:$E$41)="No","NO HABILITADO",IF(XLOOKUP("B-02",Cajones!$A$2:$A$41,Cajones!$G$2:$G$41)=0,"LIBRE",XLOOKUP("B-02",Cajones!$A$2:$A$41,Cajones!$I$2:$I$41)))),"") | D8: ="B-03"&CHAR(10)&IFERROR(IF(OR(XLOOKUP("B-03",Cajones!$A$2:$A$41,Cajones!$G$2:$G$41)>1,AND(XLOOKUP("B-03",Cajones!$A$2:$A$41,Cajones!$E$2:$E$41)="No",XLOOKUP("B-03",Cajones!$A$2:$A$41,Cajones!$G$2:$G$41)>0)),"CONFLICTO",IF(XLOOKUP("B-03",Cajones!$A$2:$A$41,Cajones!$E$2:$E$41)="No","NO HABILITADO",IF(XLOOKUP("B-03",Cajones!$A$2:$A$41,Cajones!$G$2:$G$41)=0,"LIBRE",XLOOKUP("B-03",Cajones!$A$2:$A$41,Cajones!$I$2:$I$41)))),"") | E8: ="B-04"&CHAR(10)&IFERROR(IF(OR(XLOOKUP("B-04",Cajones!$A$2:$A$41,Cajones!$G$2:$G$41)>1,AND(XLOOKUP("B-04",Cajones!$A$2:$A$41,Cajones!$E$2:$E$41)="No",XLOOKUP("B-04",Cajones!$A$2:$A$41,Cajones!$G$2:$G$41)>0)),"CONFLICTO",IF(XLOOKUP("B-04",Cajones!$A$2:$A$41,Cajones!$E$2:$E$41)="No","NO HABILITADO",IF(XLOOKUP("B-04",Cajones!$A$2:$A$41,Cajones!$G$2:$G$41)=0,"LIBRE",XLOOKUP("B-04",Cajones!$A$2:$A$41,Cajones!$I$2:$I$41)))),"") | F8: ="B-05"&CHAR(10)&IFERROR(IF(OR(XLOOKUP("B-05",Cajones!$A$2:$A$41,Cajones!$G$2:$G$41)>1,AND(XLOOKUP("B-05",Cajones!$A$2:$A$41,Cajones!$E$2:$E$41)="No",XLOOKUP("B-05",Cajones!$A$2:$A$41,Cajones!$G$2:$G$41)>0)),"CONFLICTO",IF(XLOOKUP("B-05",Cajones!$A$2:$A$41,Cajones!$E$2:$E$41)="No","NO HABILITADO",IF(XLOOKUP("B-05",Cajones!$A$2:$A$41,Cajones!$G$2:$G$41)=0,"LIBRE",XLOOKUP("B-05",Cajones!$A$2:$A$41,Cajones!$I$2:$I$41)))),"") | G8: ="B-06"&CHAR(10)&IFERROR(IF(OR(XLOOKUP("B-06",Cajones!$A$2:$A$41,Cajones!$G$2:$G$41)>1,AND(XLOOKUP("B-06",Cajones!$A$2:$A$41,Cajones!$E$2:$E$41)="No",XLOOKUP("B-06",Cajones!$A$2:$A$41,Cajones!$G$2:$G$41)>0)),"CONFLICTO",IF(XLOOKUP("B-06",Cajones!$A$2:$A$41,Cajones!$E$2:$E$41)="No","NO HABILITADO",IF(XLOOKUP("B-06",Cajones!$A$2:$A$41,Cajones!$G$2:$G$41)=0,"LIBRE",XLOOKUP("B-06",Cajones!$A$2:$A$41,Cajones!$I$2:$I$41)))),"") | H8: ="B-07"&CHAR(10)&IFERROR(IF(OR(XLOOKUP("B-07",Cajones!$A$2:$A$41,Cajones!$G$2:$G$41)>1,AND(XLOOKUP("B-07",Cajones!$A$2:$A$41,Cajones!$E$2:$E$41)="No",XLOOKUP("B-07",Cajones!$A$2:$A$41,Cajones!$G$2:$G$41)>0)),"CONFLICTO",IF(XLOOKUP("B-07",Cajones!$A$2:$A$41,Cajones!$E$2:$E$41)="No","NO HABILITADO",IF(XLOOKUP("B-07",Cajones!$A$2:$A$41,Cajones!$G$2:$G$41)=0,"LIBRE",XLOOKUP("B-07",Cajones!$A$2:$A$41,Cajones!$I$2:$I$41)))),"") | I8: ="B-08"&CHAR(10)&IFERROR(IF(OR(XLOOKUP("B-08",Cajones!$A$2:$A$41,Cajones!$G$2:$G$41)>1,AND(XLOOKUP("B-08",Cajones!$A$2:$A$41,Cajones!$E$2:$E$41)="No",XLOOKUP("B-08",Cajones!$A$2:$A$41,Cajones!$G$2:$G$41)>0)),"CONFLICTO",IF(XLOOKUP("B-08",Cajones!$A$2:$A$41,Cajones!$E$2:$E$41)="No","NO HABILITADO",IF(XLOOKUP("B-08",Cajones!$A$2:$A$41,Cajones!$G$2:$G$41)=0,"LIBRE",XLOOKUP("B-08",Cajones!$A$2:$A$41,Cajones!$I$2:$I$41)))),"") | J8: ="B-09"&CHAR(10)&IFERROR(IF(OR(XLOOKUP("B-09",Cajones!$A$2:$A$41,Cajones!$G$2:$G$41)>1,AND(XLOOKUP("B-09",Cajones!$A$2:$A$41,Cajones!$E$2:$E$41)="No",XLOOKUP("B-09",Cajones!$A$2:$A$41,Cajones!$G$2:$G$41)>0)),"CONFLICTO",IF(XLOOKUP("B-09",Cajones!$A$2:$A$41,Cajones!$E$2:$E$41)="No","NO HABILITADO",IF(XLOOKUP("B-09",Cajones!$A$2:$A$41,Cajones!$G$2:$G$41)=0,"LIBRE",XLOOKUP("B-09",Cajones!$A$2:$A$41,Cajones!$I$2:$I$41)))),"") | K8: ="B-10"&CHAR(10)&IFERROR(IF(OR(XLOOKUP("B-10",Cajones!$A$2:$A$41,Cajones!$G$2:$G$41)>1,AND(XLOOKUP("B-10",Cajones!$A$2:$A$41,Cajones!$E$2:$E$41)="No",XLOOKUP("B-10",Cajones!$A$2:$A$41,Cajones!$G$2:$G$41)>0)),"CONFLICTO",IF(XLOOKUP("B-10",Cajones!$A$2:$A$41,Cajones!$E$2:$E$41)="No","NO HABILITADO",IF(XLOOKUP("B-10",Cajones!$A$2:$A$41,Cajones!$G$2:$G$41)=0,"LIBRE",XLOOKUP("B-10",Cajones!$A$2:$A$41,Cajones!$I$2:$I$41)))),"")
A9: Zona C | B9: ="C-01"&CHAR(10)&IFERROR(IF(OR(XLOOKUP("C-01",Cajones!$A$2:$A$41,Cajones!$G$2:$G$41)>1,AND(XLOOKUP("C-01",Cajones!$A$2:$A$41,Cajones!$E$2:$E$41)="No",XLOOKUP("C-01",Cajones!$A$2:$A$41,Cajones!$G$2:$G$41)>0)),"CONFLICTO",IF(XLOOKUP("C-01",Cajones!$A$2:$A$41,Cajones!$E$2:$E$41)="No","NO HABILITADO",IF(XLOOKUP("C-01",Cajones!$A$2:$A$41,Cajones!$G$2:$G$41)=0,"LIBRE",XLOOKUP("C-01",Cajones!$A$2:$A$41,Cajones!$I$2:$I$41)))),"") | C9: ="C-02"&CHAR(10)&IFERROR(IF(OR(XLOOKUP("C-02",Cajones!$A$2:$A$41,Cajones!$G$2:$G$41)>1,AND(XLOOKUP("C-02",Cajones!$A$2:$A$41,Cajones!$E$2:$E$41)="No",XLOOKUP("C-02",Cajones!$A$2:$A$41,Cajones!$G$2:$G$41)>0)),"CONFLICTO",IF(XLOOKUP("C-02",Cajones!$A$2:$A$41,Cajones!$E$2:$E$41)="No","NO HABILITADO",IF(XLOOKUP("C-02",Cajones!$A$2:$A$41,Cajones!$G$2:$G$41)=0,"LIBRE",XLOOKUP("C-02",Cajones!$A$2:$A$41,Cajones!$I$2:$I$41)))),"") | D9: ="C-03"&CHAR(10)&IFERROR(IF(OR(XLOOKUP("C-03",Cajones!$A$2:$A$41,Cajones!$G$2:$G$41)>1,AND(XLOOKUP("C-03",Cajones!$A$2:$A$41,Cajones!$E$2:$E$41)="No",XLOOKUP("C-03",Cajones!$A$2:$A$41,Cajones!$G$2:$G$41)>0)),"CONFLICTO",IF(XLOOKUP("C-03",Cajones!$A$2:$A$41,Cajones!$E$2:$E$41)="No","NO HABILITADO",IF(XLOOKUP("C-03",Cajones!$A$2:$A$41,Cajones!$G$2:$G$41)=0,"LIBRE",XLOOKUP("C-03",Cajones!$A$2:$A$41,Cajones!$I$2:$I$41)))),"") | E9: ="C-04"&CHAR(10)&IFERROR(IF(OR(XLOOKUP("C-04",Cajones!$A$2:$A$41,Cajones!$G$2:$G$41)>1,AND(XLOOKUP("C-04",Cajones!$A$2:$A$41,Cajones!$E$2:$E$41)="No",XLOOKUP("C-04",Cajones!$A$2:$A$41,Cajones!$G$2:$G$41)>0)),"CONFLICTO",IF(XLOOKUP("C-04",Cajones!$A$2:$A$41,Cajones!$E$2:$E$41)="No","NO HABILITADO",IF(XLOOKUP("C-04",Cajones!$A$2:$A$41,Cajones!$G$2:$G$41)=0,"LIBRE",XLOOKUP("C-04",Cajones!$A$2:$A$41,Cajones!$I$2:$I$41)))),"") | F9: ="C-05"&CHAR(10)&IFERROR(IF(OR(XLOOKUP("C-05",Cajones!$A$2:$A$41,Cajones!$G$2:$G$41)>1,AND(XLOOKUP("C-05",Cajones!$A$2:$A$41,Cajones!$E$2:$E$41)="No",XLOOKUP("C-05",Cajones!$A$2:$A$41,Cajones!$G$2:$G$41)>0)),"CONFLICTO",IF(XLOOKUP("C-05",Cajones!$A$2:$A$41,Cajones!$E$2:$E$41)="No","NO HABILITADO",IF(XLOOKUP("C-05",Cajones!$A$2:$A$41,Cajones!$G$2:$G$41)=0,"LIBRE",XLOOKUP("C-05",Cajones!$A$2:$A$41,Cajones!$I$2:$I$41)))),"") | G9: ="C-06"&CHAR(10)&IFERROR(IF(OR(XLOOKUP("C-06",Cajones!$A$2:$A$41,Cajones!$G$2:$G$41)>1,AND(XLOOKUP("C-06",Cajones!$A$2:$A$41,Cajones!$E$2:$E$41)="No",XLOOKUP("C-06",Cajones!$A$2:$A$41,Cajones!$G$2:$G$41)>0)),"CONFLICTO",IF(XLOOKUP("C-06",Cajones!$A$2:$A$41,Cajones!$E$2:$E$41)="No","NO HABILITADO",IF(XLOOKUP("C-06",Cajones!$A$2:$A$41,Cajones!$G$2:$G$41)=0,"LIBRE",XLOOKUP("C-06",Cajones!$A$2:$A$41,Cajones!$I$2:$I$41)))),"") | H9: ="C-07"&CHAR(10)&IFERROR(IF(OR(XLOOKUP("C-07",Cajones!$A$2:$A$41,Cajones!$G$2:$G$41)>1,AND(XLOOKUP("C-07",Cajones!$A$2:$A$41,Cajones!$E$2:$E$41)="No",XLOOKUP("C-07",Cajones!$A$2:$A$41,Cajones!$G$2:$G$41)>0)),"CONFLICTO",IF(XLOOKUP("C-07",Cajones!$A$2:$A$41,Cajones!$E$2:$E$41)="No","NO HABILITADO",IF(XLOOKUP("C-07",Cajones!$A$2:$A$41,Cajones!$G$2:$G$41)=0,"LIBRE",XLOOKUP("C-07",Cajones!$A$2:$A$41,Cajones!$I$2:$I$41)))),"") | I9: ="C-08"&CHAR(10)&IFERROR(IF(OR(XLOOKUP("C-08",Cajones!$A$2:$A$41,Cajones!$G$2:$G$41)>1,AND(XLOOKUP("C-08",Cajones!$A$2:$A$41,Cajones!$E$2:$E$41)="No",XLOOKUP("C-08",Cajones!$A$2:$A$41,Cajones!$G$2:$G$41)>0)),"CONFLICTO",IF(XLOOKUP("C-08",Cajones!$A$2:$A$41,Cajones!$E$2:$E$41)="No","NO HABILITADO",IF(XLOOKUP("C-08",Cajones!$A$2:$A$41,Cajones!$G$2:$G$41)=0,"LIBRE",XLOOKUP("C-08",Cajones!$A$2:$A$41,Cajones!$I$2:$I$41)))),"") | J9: ="C-09"&CHAR(10)&IFERROR(IF(OR(XLOOKUP("C-09",Cajones!$A$2:$A$41,Cajones!$G$2:$G$41)>1,AND(XLOOKUP("C-09",Cajones!$A$2:$A$41,Cajones!$E$2:$E$41)="No",XLOOKUP("C-09",Cajones!$A$2:$A$41,Cajones!$G$2:$G$41)>0)),"CONFLICTO",IF(XLOOKUP("C-09",Cajones!$A$2:$A$41,Cajones!$E$2:$E$41)="No","NO HABILITADO",IF(XLOOKUP("C-09",Cajones!$A$2:$A$41,Cajones!$G$2:$G$41)=0,"LIBRE",XLOOKUP("C-09",Cajones!$A$2:$A$41,Cajones!$I$2:$I$41)))),"") | K9: ="C-10"&CHAR(10)&IFERROR(IF(OR(XLOOKUP("C-10",Cajones!$A$2:$A$41,Cajones!$G$2:$G$41)>1,AND(XLOOKUP("C-10",Cajones!$A$2:$A$41,Cajones!$E$2:$E$41)="No",XLOOKUP("C-10",Cajones!$A$2:$A$41,Cajones!$G$2:$G$41)>0)),"CONFLICTO",IF(XLOOKUP("C-10",Cajones!$A$2:$A$41,Cajones!$E$2:$E$41)="No","NO HABILITADO",IF(XLOOKUP("C-10",Cajones!$A$2:$A$41,Cajones!$G$2:$G$41)=0,"LIBRE",XLOOKUP("C-10",Cajones!$A$2:$A$41,Cajones!$I$2:$I$41)))),"")
A10: Zona D | B10: ="D-01"&CHAR(10)&IFERROR(IF(OR(XLOOKUP("D-01",Cajones!$A$2:$A$41,Cajones!$G$2:$G$41)>1,AND(XLOOKUP("D-01",Cajones!$A$2:$A$41,Cajones!$E$2:$E$41)="No",XLOOKUP("D-01",Cajones!$A$2:$A$41,Cajones!$G$2:$G$41)>0)),"CONFLICTO",IF(XLOOKUP("D-01",Cajones!$A$2:$A$41,Cajones!$E$2:$E$41)="No","NO HABILITADO",IF(XLOOKUP("D-01",Cajones!$A$2:$A$41,Cajones!$G$2:$G$41)=0,"LIBRE",XLOOKUP("D-01",Cajones!$A$2:$A$41,Cajones!$I$2:$I$41)))),"") | C10: ="D-02"&CHAR(10)&IFERROR(IF(OR(XLOOKUP("D-02",Cajones!$A$2:$A$41,Cajones!$G$2:$G$41)>1,AND(XLOOKUP("D-02",Cajones!$A$2:$A$41,Cajones!$E$2:$E$41)="No",XLOOKUP("D-02",Cajones!$A$2:$A$41,Cajones!$G$2:$G$41)>0)),"CONFLICTO",IF(XLOOKUP("D-02",Cajones!$A$2:$A$41,Cajones!$E$2:$E$41)="No","NO HABILITADO",IF(XLOOKUP("D-02",Cajones!$A$2:$A$41,Cajones!$G$2:$G$41)=0,"LIBRE",XLOOKUP("D-02",Cajones!$A$2:$A$41,Cajones!$I$2:$I$41)))),"") | D10: ="D-03"&CHAR(10)&IFERROR(IF(OR(XLOOKUP("D-03",Cajones!$A$2:$A$41,Cajones!$G$2:$G$41)>1,AND(XLOOKUP("D-03",Cajones!$A$2:$A$41,Cajones!$E$2:$E$41)="No",XLOOKUP("D-03",Cajones!$A$2:$A$41,Cajones!$G$2:$G$41)>0)),"CONFLICTO",IF(XLOOKUP("D-03",Cajones!$A$2:$A$41,Cajones!$E$2:$E$41)="No","NO HABILITADO",IF(XLOOKUP("D-03",Cajones!$A$2:$A$41,Cajones!$G$2:$G$41)=0,"LIBRE",XLOOKUP("D-03",Cajones!$A$2:$A$41,Cajones!$I$2:$I$41)))),"") | E10: ="D-04"&CHAR(10)&IFERROR(IF(OR(XLOOKUP("D-04",Cajones!$A$2:$A$41,Cajones!$G$2:$G$41)>1,AND(XLOOKUP("D-04",Cajones!$A$2:$A$41,Cajones!$E$2:$E$41)="No",XLOOKUP("D-04",Cajones!$A$2:$A$41,Cajones!$G$2:$G$41)>0)),"CONFLICTO",IF(XLOOKUP("D-04",Cajones!$A$2:$A$41,Cajones!$E$2:$E$41)="No","NO HABILITADO",IF(XLOOKUP("D-04",Cajones!$A$2:$A$41,Cajones!$G$2:$G$41)=0,"LIBRE",XLOOKUP("D-04",Cajones!$A$2:$A$41,Cajones!$I$2:$I$41)))),"") | F10: ="D-05"&CHAR(10)&IFERROR(IF(OR(XLOOKUP("D-05",Cajones!$A$2:$A$41,Cajones!$G$2:$G$41)>1,AND(XLOOKUP("D-05",Cajones!$A$2:$A$41,Cajones!$E$2:$E$41)="No",XLOOKUP("D-05",Cajones!$A$2:$A$41,Cajones!$G$2:$G$41)>0)),"CONFLICTO",IF(XLOOKUP("D-05",Cajones!$A$2:$A$41,Cajones!$E$2:$E$41)="No","NO HABILITADO",IF(XLOOKUP("D-05",Cajones!$A$2:$A$41,Cajones!$G$2:$G$41)=0,"LIBRE",XLOOKUP("D-05",Cajones!$A$2:$A$41,Cajones!$I$2:$I$41)))),"") | G10: ="D-06"&CHAR(10)&IFERROR(IF(OR(XLOOKUP("D-06",Cajones!$A$2:$A$41,Cajones!$G$2:$G$41)>1,AND(XLOOKUP("D-06",Cajones!$A$2:$A$41,Cajones!$E$2:$E$41)="No",XLOOKUP("D-06",Cajones!$A$2:$A$41,Cajones!$G$2:$G$41)>0)),"CONFLICTO",IF(XLOOKUP("D-06",Cajones!$A$2:$A$41,Cajones!$E$2:$E$41)="No","NO HABILITADO",IF(XLOOKUP("D-06",Cajones!$A$2:$A$41,Cajones!$G$2:$G$41)=0,"LIBRE",XLOOKUP("D-06",Cajones!$A$2:$A$41,Cajones!$I$2:$I$41)))),"") | H10: ="D-07"&CHAR(10)&IFERROR(IF(OR(XLOOKUP("D-07",Cajones!$A$2:$A$41,Cajones!$G$2:$G$41)>1,AND(XLOOKUP("D-07",Cajones!$A$2:$A$41,Cajones!$E$2:$E$41)="No",XLOOKUP("D-07",Cajones!$A$2:$A$41,Cajones!$G$2:$G$41)>0)),"CONFLICTO",IF(XLOOKUP("D-07",Cajones!$A$2:$A$41,Cajones!$E$2:$E$41)="No","NO HABILITADO",IF(XLOOKUP("D-07",Cajones!$A$2:$A$41,Cajones!$G$2:$G$41)=0,"LIBRE",XLOOKUP("D-07",Cajones!$A$2:$A$41,Cajones!$I$2:$I$41)))),"") | I10: ="D-08"&CHAR(10)&IFERROR(IF(OR(XLOOKUP("D-08",Cajones!$A$2:$A$41,Cajones!$G$2:$G$41)>1,AND(XLOOKUP("D-08",Cajones!$A$2:$A$41,Cajones!$E$2:$E$41)="No",XLOOKUP("D-08",Cajones!$A$2:$A$41,Cajones!$G$2:$G$41)>0)),"CONFLICTO",IF(XLOOKUP("D-08",Cajones!$A$2:$A$41,Cajones!$E$2:$E$41)="No","NO HABILITADO",IF(XLOOKUP("D-08",Cajones!$A$2:$A$41,Cajones!$G$2:$G$41)=0,"LIBRE",XLOOKUP("D-08",Cajones!$A$2:$A$41,Cajones!$I$2:$I$41)))),"") | J10: ="D-09"&CHAR(10)&IFERROR(IF(OR(XLOOKUP("D-09",Cajones!$A$2:$A$41,Cajones!$G$2:$G$41)>1,AND(XLOOKUP("D-09",Cajones!$A$2:$A$41,Cajones!$E$2:$E$41)="No",XLOOKUP("D-09",Cajones!$A$2:$A$41,Cajones!$G$2:$G$41)>0)),"CONFLICTO",IF(XLOOKUP("D-09",Cajones!$A$2:$A$41,Cajones!$E$2:$E$41)="No","NO HABILITADO",IF(XLOOKUP("D-09",Cajones!$A$2:$A$41,Cajones!$G$2:$G$41)=0,"LIBRE",XLOOKUP("D-09",Cajones!$A$2:$A$41,Cajones!$I$2:$I$41)))),"") | K10: ="D-10"&CHAR(10)&IFERROR(IF(OR(XLOOKUP("D-10",Cajones!$A$2:$A$41,Cajones!$G$2:$G$41)>1,AND(XLOOKUP("D-10",Cajones!$A$2:$A$41,Cajones!$E$2:$E$41)="No",XLOOKUP("D-10",Cajones!$A$2:$A$41,Cajones!$G$2:$G$41)>0)),"CONFLICTO",IF(XLOOKUP("D-10",Cajones!$A$2:$A$41,Cajones!$E$2:$E$41)="No","NO HABILITADO",IF(XLOOKUP("D-10",Cajones!$A$2:$A$41,Cajones!$G$2:$G$41)=0,"LIBRE",XLOOKUP("D-10",Cajones!$A$2:$A$41,Cajones!$I$2:$I$41)))),"")
A12: Lectura visual | B12: LIBRE | C12: NO HABILITADO | D12: CONFLICTO | E12: ESTANCIA PROLONGADA | F12: OCUPACIÓN NORMAL
A14: Acción operativa | B14: Revise primero los conflictos, los cajones inhabilitados ocupados y las estancias que excedan el límite editable.

Sheet Cajones
A1: Cajón | B1: Zona | C1: Tipo | D1: Referencia física | E1: Habilitado | F1: Observaciones | G1: Estancias activas | H1: Folio actual | I1: Unidad actual | J1: Descripción actual | K1: Horas actuales | L1: Alerta
A2: A-01 | B2: Zona A | C2: Estándar | D2: Hilera A, posición 01 | E2: Sí | G2: =COUNTIFS(Estancias!$D$2:$D$201,A2,Estancias!$J$2:$J$201,"Ocupando") | H2: =IF(G2=0,"",IFERROR(SUMPRODUCT(MAX((Estancias!$D$2:$D$201=A2)*(Estancias!$J$2:$J$201="Ocupando")*Estancias!$A$2:$A$201)),"")) | I2: =IFERROR(XLOOKUP(H2,Estancias!$A$2:$A$201,Estancias!$B$2:$B$201),"") | J2: =IFERROR(XLOOKUP(H2,Estancias!$A$2:$A$201,Estancias!$C$2:$C$201),"") | K2: =IFERROR(XLOOKUP(H2,Estancias!$A$2:$A$201,Estancias!$K$2:$K$201),"") | L2: =IF(E2="No",IF(G2>0,"ERROR: cajón inhabilitado ocupado","No habilitado"),IF(G2>1,"CONFLICTO: más de una unidad",IF(AND(G2=1,K2>Catálogos!$B$2),"REVISAR: estancia prolongada",""))) | N2: =IFERROR(Catálogos!E2,"") | O2: =Catálogos!D2
A3: A-02 | B3: Zona A | C3: Compacto | D3: Hilera A, posición 02 | E3: Sí | G3: =COUNTIFS(Estancias!$D$2:$D$201,A3,Estancias!$J$2:$J$201,"Ocupando") | H3: =IF(G3=0,"",IFERROR(SUMPRODUCT(MAX((Estancias!$D$2:$D$201=A3)*(Estancias!$J$2:$J$201="Ocupando")*Estancias!$A$2:$A$201)),"")) | I3: =IFERROR(XLOOKUP(H3,Estancias!$A$2:$A$201,Estancias!$B$2:$B$201),"") | J3: =IFERROR(XLOOKUP(H3,Estancias!$A$2:$A$201,Estancias!$C$2:$C$201),"") | K3: =IFERROR(XLOOKUP(H3,Estancias!$A$2:$A$201,Estancias!$K$2:$K$201),"") | L3: =IF(E3="No",IF(G3>0,"ERROR: cajón inhabilitado ocupado","No habilitado"),IF(G3>1,"CONFLICTO: más de una unidad",IF(AND(G3=1,K3>Catálogos!$B$2),"REVISAR: estancia prolongada",""))) | N3: =IFERROR(Catálogos!E3,"") | O3: =Catálogos!D3
A4: A-03 | B4: Zona A | C4: Vehículo alto | D4: Hilera A, posición 03 | E4: Sí | G4: =COUNTIFS(Estancias!$D$2:$D$201,A4,Estancias!$J$2:$J$201,"Ocupando") | H4: =IF(G4=0,"",IFERROR(SUMPRODUCT(MAX((Estancias!$D$2:$D$201=A4)*(Estancias!$J$2:$J$201="Ocupando")*Estancias!$A$2:$A$201)),"")) | I4: =IFERROR(XLOOKUP(H4,Estancias!$A$2:$A$201,Estancias!$B$2:$B$201),"") | J4: =IFERROR(XLOOKUP(H4,Estancias!$A$2:$A$201,Estancias!$C$2:$C$201),"") | K4: =IFERROR(XLOOKUP(H4,Estancias!$A$2:$A$201,Estancias!$K$2:$K$201),"") | L4: =IF(E4="No",IF(G4>0,"ERROR: cajón inhabilitado ocupado","No habilitado"),IF(G4>1,"CONFLICTO: más de una unidad",IF(AND(G4=1,K4>Catálogos!$B$2),"REVISAR: estancia prolongada",""))) | N4: =IFERROR(Catálogos!E4,"")
A5: A-04 | B5: Zona A | C5: Estándar | D5: Hilera A, posición 04 | E5: Sí | G5: =COUNTIFS(Estancias!$D$2:$D$201,A5,Estancias!$J$2:$J$201,"Ocupando") | H5: =IF(G5=0,"",IFERROR(SUMPRODUCT(MAX((Estancias!$D$2:$D$201=A5)*(Estancias!$J$2:$J$201="Ocupando")*Estancias!$A$2:$A$201)),"")) | I5: =IFERROR(XLOOKUP(H5,Estancias!$A$2:$A$201,Estancias!$B$2:$B$201),"") | J5: =IFERROR(XLOOKUP(H5,Estancias!$A$2:$A$201,Estancias!$C$2:$C$201),"") | K5: =IFERROR(XLOOKUP(H5,Estancias!$A$2:$A$201,Estancias!$K$2:$K$201),"") | L5: =IF(E5="No",IF(G5>0,"ERROR: cajón inhabilitado ocupado","No habilitado"),IF(G5>1,"CONFLICTO: más de una unidad",IF(AND(G5=1,K5>Catálogos!$B$2),"REVISAR: estancia prolongada",""))) | N5: =IFERROR(Catálogos!E5,"")
A6: A-05 | B6: Zona A | C6: Compacto | D6: Hilera A, posición 05 | E6: Sí | G6: =COUNTIFS(Estancias!$D$2:$D$201,A6,Estancias!$J$2:$J$201,"Ocupando") | H6: =IF(G6=0,"",IFERROR(SUMPRODUCT(MAX((Estancias!$D$2:$D$201=A6)*(Estancias!$J$2:$J$201="Ocupando")*Estancias!$A$2:$A$201)),"")) | I6: =IFERROR(XLOOKUP(H6,Estancias!$A$2:$A$201,Estancias!$B$2:$B$201),"") | J6: =IFERROR(XLOOKUP(H6,Estancias!$A$2:$A$201,Estancias!$C$2:$C$201),"") | K6: =IFERROR(XLOOKUP(H6,Estancias!$A$2:$A$201,Estancias!$K$2:$K$201),"") | L6: =IF(E6="No",IF(G6>0,"ERROR: cajón inhabilitado ocupado","No habilitado"),IF(G6>1,"CONFLICTO: más de una unidad",IF(AND(G6=1,K6>Catálogos!$B$2),"REVISAR: estancia prolongada",""))) | N6: =IFERROR(Catálogos!E6,"")
A7: A-06 | B7: Zona A | C7: Vehículo alto | D7: Hilera A, posición 06 | E7: Sí | G7: =COUNTIFS(Estancias!$D$2:$D$201,A7,Estancias!$J$2:$J$201,"Ocupando") | H7: =IF(G7=0,"",IFERROR(SUMPRODUCT(MAX((Estancias!$D$2:$D$201=A7)*(Estancias!$J$2:$J$201="Ocupando")*Estancias!$A$2:$A$201)),"")) | I7: =IFERROR(XLOOKUP(H7,Estancias!$A$2:$A$201,Estancias!$B$2:$B$201),"") | J7: =IFERROR(XLOOKUP(H7,Estancias!$A$2:$A$201,Estancias!$C$2:$C$201),"") | K7: =IFERROR(XLOOKUP(H7,Estancias!$A$2:$A$201,Estancias!$K$2:$K$201),"") | L7: =IF(E7="No",IF(G7>0,"ERROR: cajón inhabilitado ocupado","No habilitado"),IF(G7>1,"CONFLICTO: más de una unidad",IF(AND(G7=1,K7>Catálogos!$B$2),"REVISAR: estancia prolongada",""))) | N7: =IFERROR(Catálogos!E7,"")
A8: A-07 | B8: Zona A | C8: Estándar | D8: Hilera A, posición 07 | E8: Sí | G8: =COUNTIFS(Estancias!$D$2:$D$201,A8,Estancias!$J$2:$J$201,"Ocupando") | H8: =IF(G8=0,"",IFERROR(SUMPRODUCT(MAX((Estancias!$D$2:$D$201=A8)*(Estancias!$J$2:$J$201="Ocupando")*Estancias!$A$2:$A$201)),"")) | I8: =IFERROR(XLOOKUP(H8,Estancias!$A$2:$A$201,Estancias!$B$2:$B$201),"") | J8: =IFERROR(XLOOKUP(H8,Estancias!$A$2:$A$201,Estancias!$C$2:$C$201),"") | K8: =IFERROR(XLOOKUP(H8,Estancias!$A$2:$A$201,Estancias!$K$2:$K$201),"") | L8: =IF(E8="No",IF(G8>0,"ERROR: cajón inhabilitado ocupado","No habilitado"),IF(G8>1,"CONFLICTO: más de una unidad",IF(AND(G8=1,K8>Catálogos!$B$2),"REVISAR: estancia prolongada",""))) | N8: =IFERROR(Catálogos!E8,"")
A9: A-08 | B9: Zona A | C9: Compacto | D9: Hilera A, posición 08 | E9: Sí | G9: =COUNTIFS(Estancias!$D$2:$D$201,A9,Estancias!$J$2:$J$201,"Ocupando") | H9: =IF(G9=0,"",IFERROR(SUMPRODUCT(MAX((Estancias!$D$2:$D$201=A9)*(Estancias!$J$2:$J$201="Ocupando")*Estancias!$A$2:$A$201)),"")) | I9: =IFERROR(XLOOKUP(H9,Estancias!$A$2:$A$201,Estancias!$B$2:$B$201),"") | J9: =IFERROR(XLOOKUP(H9,Estancias!$A$2:$A$201,Estancias!$C$2:$C$201),"") | K9: =IFERROR(XLOOKUP(H9,Estancias!$A$2:$A$201,Estancias!$K$2:$K$201),"") | L9: =IF(E9="No",IF(G9>0,"ERROR: cajón inhabilitado ocupado","No habilitado"),IF(G9>1,"CONFLICTO: más de una unidad",IF(AND(G9=1,K9>Catálogos!$B$2),"REVISAR: estancia prolongada",""))) | N9: =IFERROR(Catálogos!E9,"")
A10: A-09 | B10: Zona A | C10: Vehículo alto | D10: Hilera A, posición 09 | E10: Sí | G10: =COUNTIFS(Estancias!$D$2:$D$201,A10,Estancias!$J$2:$J$201,"Ocupando") | H10: =IF(G10=0,"",IFERROR(SUMPRODUCT(MAX((Estancias!$D$2:$D$201=A10)*(Estancias!$J$2:$J$201="Ocupando")*Estancias!$A$2:$A$201)),"")) | I10: =IFERROR(XLOOKUP(H10,Estancias!$A$2:$A$201,Estancias!$B$2:$B$201),"") | J10: =IFERROR(XLOOKUP(H10,Estancias!$A$2:$A$201,Estancias!$C$2:$C$201),"") | K10: =IFERROR(XLOOKUP(H10,Estancias!$A$2:$A$201,Estancias!$K$2:$K$201),"") | L10: =IF(E10="No",IF(G10>0,"ERROR: cajón inhabilitado ocupado","No habilitado"),IF(G10>1,"CONFLICTO: más de una unidad",IF(AND(G10=1,K10>Catálogos!$B$2),"REVISAR: estancia prolongada",""))) | N10: =IFERROR(Catálogos!E10,"")
A11: A-10 | B11: Zona A | C11: Estándar | D11: Hilera A, posición 10 | E11: No | F11: Fuera de uso; revisar señalización interna | G11: =COUNTIFS(Estancias!$D$2:$D$201,A11,Estancias!$J$2:$J$201,"Ocupando") | H11: =IF(G11=0,"",IFERROR(SUMPRODUCT(MAX((Estancias!$D$2:$D$201=A11)*(Estancias!$J$2:$J$201="Ocupando")*Estancias!$A$2:$A$201)),"")) | I11: =IFERROR(XLOOKUP(H11,Estancias!$A$2:$A$201,Estancias!$B$2:$B$201),"") | J11: =IFERROR(XLOOKUP(H11,Estancias!$A$2:$A$201,Estancias!$C$2:$C$201),"") | K11: =IFERROR(XLOOKUP(H11,Estancias!$A$2:$A$201,Estancias!$K$2:$K$201),"") | L11: =IF(E11="No",IF(G11>0,"ERROR: cajón inhabilitado ocupado","No habilitado"),IF(G11>1,"CONFLICTO: más de una unidad",IF(AND(G11=1,K11>Catálogos!$B$2),"REVISAR: estancia prolongada",""))) | N11: =IFERROR(Catálogos!E11,"")
A12: B-01 | B12: Zona B | C12: Estándar | D12: Hilera B, posición 01 | E12: Sí | G12: =COUNTIFS(Estancias!$D$2:$D$201,A12,Estancias!$J$2:$J$201,"Ocupando") | H12: =IF(G12=0,"",IFERROR(SUMPRODUCT(MAX((Estancias!$D$2:$D$201=A12)*(Estancias!$J$2:$J$201="Ocupando")*Estancias!$A$2:$A$201)),"")) | I12: =IFERROR(XLOOKUP(H12,Estancias!$A$2:$A$201,Estancias!$B$2:$B$201),"") | J12: =IFERROR(XLOOKUP(H12,Estancias!$A$2:$A$201,Estancias!$C$2:$C$201),"") | K12: =IFERROR(XLOOKUP(H12,Estancias!$A$2:$A$201,Estancias!$K$2:$K$201),"") | L12: =IF(E12="No",IF(G12>0,"ERROR: cajón inhabilitado ocupado","No habilitado"),IF(G12>1,"CONFLICTO: más de una unidad",IF(AND(G12=1,K12>Catálogos!$B$2),"REVISAR: estancia prolongada",""))) | N12: =IFERROR(Catálogos!E12,"")
A13: B-02 | B13: Zona B | C13: Compacto | D13: Hilera B, posición 02 | E13: Sí | G13: =COUNTIFS(Estancias!$D$2:$D$201,A13,Estancias!$J$2:$J$201,"Ocupando") | H13: =IF(G13=0,"",IFERROR(SUMPRODUCT(MAX((Estancias!$D$2:$D$201=A13)*(Estancias!$J$2:$J$201="Ocupando")*Estancias!$A$2:$A$201)),"")) | I13: =IFERROR(XLOOKUP(H13,Estancias!$A$2:$A$201,Estancias!$B$2:$B$201),"") | J13: =IFERROR(XLOOKUP(H13,Estancias!$A$2:$A$201,Estancias!$C$2:$C$201),"") | K13: =IFERROR(XLOOKUP(H13,Estancias!$A$2:$A$201,Estancias!$K$2:$K$201),"") | L13: =IF(E13="No",IF(G13>0,"ERROR: cajón inhabilitado ocupado","No habilitado"),IF(G13>1,"CONFLICTO: más de una unidad",IF(AND(G13=1,K13>Catálogos!$B$2),"REVISAR: estancia prolongada",""))) | N13: =IFERROR(Catálogos!E13,"")
A14: B-03 | B14: Zona B | C14: Vehículo alto | D14: Hilera B, posición 03 | E14: Sí | G14: =COUNTIFS(Estancias!$D$2:$D$201,A14,Estancias!$J$2:$J$201,"Ocupando") | H14: =IF(G14=0,"",IFERROR(SUMPRODUCT(MAX((Estancias!$D$2:$D$201=A14)*(Estancias!$J$2:$J$201="Ocupando")*Estancias!$A$2:$A$201)),"")) | I14: =IFERROR(XLOOKUP(H14,Estancias!$A$2:$A$201,Estancias!$B$2:$B$201),"") | J14: =IFERROR(XLOOKUP(H14,Estancias!$A$2:$A$201,Estancias!$C$2:$C$201),"") | K14: =IFERROR(XLOOKUP(H14,Estancias!$A$2:$A$201,Estancias!$K$2:$K$201),"") | L14: =IF(E14="No",IF(G14>0,"ERROR: cajón inhabilitado ocupado","No habilitado"),IF(G14>1,"CONFLICTO: más de una unidad",IF(AND(G14=1,K14>Catálogos!$B$2),"REVISAR: estancia prolongada",""))) | N14: =IFERROR(Catálogos!E14,"")
A15: B-04 | B15: Zona B | C15: Estándar | D15: Hilera B, posición 04 | E15: Sí | G15: =COUNTIFS(Estancias!$D$2:$D$201,A15,Estancias!$J$2:$J$201,"Ocupando") | H15: =IF(G15=0,"",IFERROR(SUMPRODUCT(MAX((Estancias!$D$2:$D$201=A15)*(Estancias!$J$2:$J$201="Ocupando")*Estancias!$A$2:$A$201)),"")) | I15: =IFERROR(XLOOKUP(H15,Estancias!$A$2:$A$201,Estancias!$B$2:$B$201),"") | J15: =IFERROR(XLOOKUP(H15,Estancias!$A$2:$A$201,Estancias!$C$2:$C$201),"") | K15: =IFERROR(XLOOKUP(H15,Estancias!$A$2:$A$201,Estancias!$K$2:$K$201),"") | L15: =IF(E15="No",IF(G15>0,"ERROR: cajón inhabilitado ocupado","No habilitado"),IF(G15>1,"CONFLICTO: más de una unidad",IF(AND(G15=1,K15>Catálogos!$B$2),"REVISAR: estancia prolongada",""))) | N15: =IFERROR(Catálogos!E15,"")
A16: B-05 | B16: Zona B | C16: Compacto | D16: Hilera B, posición 05 | E16: Sí | G16: =COUNTIFS(Estancias!$D$2:$D$201,A16,Estancias!$J$2:$J$201,"Ocupando") | H16: =IF(G16=0,"",IFERROR(SUMPRODUCT(MAX((Estancias!$D$2:$D$201=A16)*(Estancias!$J$2:$J$201="Ocupando")*Estancias!$A$2:$A$201)),"")) | I16: =IFERROR(XLOOKUP(H16,Estancias!$A$2:$A$201,Estancias!$B$2:$B$201),"") | J16: =IFERROR(XLOOKUP(H16,Estancias!$A$2:$A$201,Estancias!$C$2:$C$201),"") | K16: =IFERROR(XLOOKUP(H16,Estancias!$A$2:$A$201,Estancias!$K$2:$K$201),"") | L16: =IF(E16="No",IF(G16>0,"ERROR: cajón inhabilitado ocupado","No habilitado"),IF(G16>1,"CONFLICTO: más de una unidad",IF(AND(G16=1,K16>Catálogos!$B$2),"REVISAR: estancia prolongada",""))) | N16: =IFERROR(Catálogos!E16,"")
A17: B-06 | B17: Zona B | C17: Vehículo alto | D17: Hilera B, posición 06 | E17: Sí | G17: =COUNTIFS(Estancias!$D$2:$D$201,A17,Estancias!$J$2:$J$201,"Ocupando") | H17: =IF(G17=0,"",IFERROR(SUMPRODUCT(MAX((Estancias!$D$2:$D$201=A17)*(Estancias!$J$2:$J$201="Ocupando")*Estancias!$A$2:$A$201)),"")) | I17: =IFERROR(XLOOKUP(H17,Estancias!$A$2:$A$201,Estancias!$B$2:$B$201),"") | J17: =IFERROR(XLOOKUP(H17,Estancias!$A$2:$A$201,Estancias!$C$2:$C$201),"") | K17: =IFERROR(XLOOKUP(H17,Estancias!$A$2:$A$201,Estancias!$K$2:$K$201),"") | L17: =IF(E17="No",IF(G17>0,"ERROR: cajón inhabilitado ocupado","No habilitado"),IF(G17>1,"CONFLICTO: más de una unidad",IF(AND(G17=1,K17>Catálogos!$B$2),"REVISAR: estancia prolongada",""))) | N17: =IFERROR(Catálogos!E17,"")
A18: B-07 | B18: Zona B | C18: Estándar | D18: Hilera B, posición 07 | E18: Sí | G18: =COUNTIFS(Estancias!$D$2:$D$201,A18,Estancias!$J$2:$J$201,"Ocupando") | H18: =IF(G18=0,"",IFERROR(SUMPRODUCT(MAX((Estancias!$D$2:$D$201=A18)*(Estancias!$J$2:$J$201="Ocupando")*Estancias!$A$2:$A$201)),"")) | I18: =IFERROR(XLOOKUP(H18,Estancias!$A$2:$A$201,Estancias!$B$2:$B$201),"") | J18: =IFERROR(XLOOKUP(H18,Estancias!$A$2:$A$201,Estancias!$C$2:$C$201),"") | K18: =IFERROR(XLOOKUP(H18,Estancias!$A$2:$A$201,Estancias!$K$2:$K$201),"") | L18: =IF(E18="No",IF(G18>0,"ERROR: cajón inhabilitado ocupado","No habilitado"),IF(G18>1,"CONFLICTO: más de una unidad",IF(AND(G18=1,K18>Catálogos!$B$2),"REVISAR: estancia prolongada",""))) | N18: =IFERROR(Catálogos!E18,"")
A19: B-08 | B19: Zona B | C19: Compacto | D19: Hilera B, posición 08 | E19: Sí | G19: =COUNTIFS(Estancias!$D$2:$D$201,A19,Estancias!$J$2:$J$201,"Ocupando") | H19: =IF(G19=0,"",IFERROR(SUMPRODUCT(MAX((Estancias!$D$2:$D$201=A19)*(Estancias!$J$2:$J$201="Ocupando")*Estancias!$A$2:$A$201)),"")) | I19: =IFERROR(XLOOKUP(H19,Estancias!$A$2:$A$201,Estancias!$B$2:$B$201),"") | J19: =IFERROR(XLOOKUP(H19,Estancias!$A$2:$A$201,Estancias!$C$2:$C$201),"") | K19: =IFERROR(XLOOKUP(H19,Estancias!$A$2:$A$201,Estancias!$K$2:$K$201),"") | L19: =IF(E19="No",IF(G19>0,"ERROR: cajón inhabilitado ocupado","No habilitado"),IF(G19>1,"CONFLICTO: más de una unidad",IF(AND(G19=1,K19>Catálogos!$B$2),"REVISAR: estancia prolongada",""))) | N19: =IFERROR(Catálogos!E19,"")
A20: B-09 | B20: Zona B | C20: Vehículo alto | D20: Hilera B, posición 09 | E20: Sí | G20: =COUNTIFS(Estancias!$D$2:$D$201,A20,Estancias!$J$2:$J$201,"Ocupando") | H20: =IF(G20=0,"",IFERROR(SUMPRODUCT(MAX((Estancias!$D$2:$D$201=A20)*(Estancias!$J$2:$J$201="Ocupando")*Estancias!$A$2:$A$201)),"")) | I20: =IFERROR(XLOOKUP(H20,Estancias!$A$2:$A$201,Estancias!$B$2:$B$201),"") | J20: =IFERROR(XLOOKUP(H20,Estancias!$A$2:$A$201,Estancias!$C$2:$C$201),"") | K20: =IFERROR(XLOOKUP(H20,Estancias!$A$2:$A$201,Estancias!$K$2:$K$201),"") | L20: =IF(E20="No",IF(G20>0,"ERROR: cajón inhabilitado ocupado","No habilitado"),IF(G20>1,"CONFLICTO: más de una unidad",IF(AND(G20=1,K20>Catálogos!$B$2),"REVISAR: estancia prolongada",""))) | N20: =IFERROR(Catálogos!E20,"")
A21: B-10 | B21: Zona B | C21: Estándar | D21: Hilera B, posición 10 | E21: No | F21: Fuera de uso; revisar señalización interna | G21: =COUNTIFS(Estancias!$D$2:$D$201,A21,Estancias!$J$2:$J$201,"Ocupando") | H21: =IF(G21=0,"",IFERROR(SUMPRODUCT(MAX((Estancias!$D$2:$D$201=A21)*(Estancias!$J$2:$J$201="Ocupando")*Estancias!$A$2:$A$201)),"")) | I21: =IFERROR(XLOOKUP(H21,Estancias!$A$2:$A$201,Estancias!$B$2:$B$201),"") | J21: =IFERROR(XLOOKUP(H21,Estancias!$A$2:$A$201,Estancias!$C$2:$C$201),"") | K21: =IFERROR(XLOOKUP(H21,Estancias!$A$2:$A$201,Estancias!$K$2:$K$201),"") | L21: =IF(E21="No",IF(G21>0,"ERROR: cajón inhabilitado ocupado","No habilitado"),IF(G21>1,"CONFLICTO: más de una unidad",IF(AND(G21=1,K21>Catálogos!$B$2),"REVISAR: estancia prolongada",""))) | N21: =IFERROR(Catálogos!E21,"")
A22: C-01 | B22: Zona C | C22: Estándar | D22: Hilera C, posición 01 | E22: Sí | G22: =COUNTIFS(Estancias!$D$2:$D$201,A22,Estancias!$J$2:$J$201,"Ocupando") | H22: =IF(G22=0,"",IFERROR(SUMPRODUCT(MAX((Estancias!$D$2:$D$201=A22)*(Estancias!$J$2:$J$201="Ocupando")*Estancias!$A$2:$A$201)),"")) | I22: =IFERROR(XLOOKUP(H22,Estancias!$A$2:$A$201,Estancias!$B$2:$B$201),"") | J22: =IFERROR(XLOOKUP(H22,Estancias!$A$2:$A$201,Estancias!$C$2:$C$201),"") | K22: =IFERROR(XLOOKUP(H22,Estancias!$A$2:$A$201,Estancias!$K$2:$K$201),"") | L22: =IF(E22="No",IF(G22>0,"ERROR: cajón inhabilitado ocupado","No habilitado"),IF(G22>1,"CONFLICTO: más de una unidad",IF(AND(G22=1,K22>Catálogos!$B$2),"REVISAR: estancia prolongada",""))) | N22: =IFERROR(Catálogos!E22,"")
A23: C-02 | B23: Zona C | C23: Compacto | D23: Hilera C, posición 02 | E23: Sí | G23: =COUNTIFS(Estancias!$D$2:$D$201,A23,Estancias!$J$2:$J$201,"Ocupando") | H23: =IF(G23=0,"",IFERROR(SUMPRODUCT(MAX((Estancias!$D$2:$D$201=A23)*(Estancias!$J$2:$J$201="Ocupando")*Estancias!$A$2:$A$201)),"")) | I23: =IFERROR(XLOOKUP(H23,Estancias!$A$2:$A$201,Estancias!$B$2:$B$201),"") | J23: =IFERROR(XLOOKUP(H23,Estancias!$A$2:$A$201,Estancias!$C$2:$C$201),"") | K23: =IFERROR(XLOOKUP(H23,Estancias!$A$2:$A$201,Estancias!$K$2:$K$201),"") | L23: =IF(E23="No",IF(G23>0,"ERROR: cajón inhabilitado ocupado","No habilitado"),IF(G23>1,"CONFLICTO: más de una unidad",IF(AND(G23=1,K23>Catálogos!$B$2),"REVISAR: estancia prolongada",""))) | N23: =IFERROR(Catálogos!E23,"")
A24: C-03 | B24: Zona C | C24: Vehículo alto | D24: Hilera C, posición 03 | E24: Sí | G24: =COUNTIFS(Estancias!$D$2:$D$201,A24,Estancias!$J$2:$J$201,"Ocupando") | H24: =IF(G24=0,"",IFERROR(SUMPRODUCT(MAX((Estancias!$D$2:$D$201=A24)*(Estancias!$J$2:$J$201="Ocupando")*Estancias!$A$2:$A$201)),"")) | I24: =IFERROR(XLOOKUP(H24,Estancias!$A$2:$A$201,Estancias!$B$2:$B$201),"") | J24: =IFERROR(XLOOKUP(H24,Estancias!$A$2:$A$201,Estancias!$C$2:$C$201),"") | K24: =IFERROR(XLOOKUP(H24,Estancias!$A$2:$A$201,Estancias!$K$2:$K$201),"") | L24: =IF(E24="No",IF(G24>0,"ERROR: cajón inhabilitado ocupado","No habilitado"),IF(G24>1,"CONFLICTO: más de una unidad",IF(AND(G24=1,K24>Catálogos!$B$2),"REVISAR: estancia prolongada",""))) | N24: =IFERROR(Catálogos!E24,"")
A25: C-04 | B25: Zona C | C25: Estándar | D25: Hilera C, posición 04 | E25: Sí | G25: =COUNTIFS(Estancias!$D$2:$D$201,A25,Estancias!$J$2:$J$201,"Ocupando") | H25: =IF(G25=0,"",IFERROR(SUMPRODUCT(MAX((Estancias!$D$2:$D$201=A25)*(Estancias!$J$2:$J$201="Ocupando")*Estancias!$A$2:$A$201)),"")) | I25: =IFERROR(XLOOKUP(H25,Estancias!$A$2:$A$201,Estancias!$B$2:$B$201),"") | J25: =IFERROR(XLOOKUP(H25,Estancias!$A$2:$A$201,Estancias!$C$2:$C$201),"") | K25: =IFERROR(XLOOKUP(H25,Estancias!$A$2:$A$201,Estancias!$K$2:$K$201),"") | L25: =IF(E25="No",IF(G25>0,"ERROR: cajón inhabilitado ocupado","No habilitado"),IF(G25>1,"CONFLICTO: más de una unidad",IF(AND(G25=1,K25>Catálogos!$B$2),"REVISAR: estancia prolongada",""))) | N25: =IFERROR(Catálogos!E25,"")
A26: C-05 | B26: Zona C | C26: Compacto | D26: Hilera C, posición 05 | E26: Sí | G26: =COUNTIFS(Estancias!$D$2:$D$201,A26,Estancias!$J$2:$J$201,"Ocupando") | H26: =IF(G26=0,"",IFERROR(SUMPRODUCT(MAX((Estancias!$D$2:$D$201=A26)*(Estancias!$J$2:$J$201="Ocupando")*Estancias!$A$2:$A$201)),"")) | I26: =IFERROR(XLOOKUP(H26,Estancias!$A$2:$A$201,Estancias!$B$2:$B$201),"") | J26: =IFERROR(XLOOKUP(H26,Estancias!$A$2:$A$201,Estancias!$C$2:$C$201),"") | K26: =IFERROR(XLOOKUP(H26,Estancias!$A$2:$A$201,Estancias!$K$2:$K$201),"") | L26: =IF(E26="No",IF(G26>0,"ERROR: cajón inhabilitado ocupado","No habilitado"),IF(G26>1,"CONFLICTO: más de una unidad",IF(AND(G26=1,K26>Catálogos!$B$2),"REVISAR: estancia prolongada",""))) | N26: =IFERROR(Catálogos!E26,"")
A27: C-06 | B27: Zona C | C27: Vehículo alto | D27: Hilera C, posición 06 | E27: Sí | G27: =COUNTIFS(Estancias!$D$2:$D$201,A27,Estancias!$J$2:$J$201,"Ocupando") | H27: =IF(G27=0,"",IFERROR(SUMPRODUCT(MAX((Estancias!$D$2:$D$201=A27)*(Estancias!$J$2:$J$201="Ocupando")*Estancias!$A$2:$A$201)),"")) | I27: =IFERROR(XLOOKUP(H27,Estancias!$A$2:$A$201,Estancias!$B$2:$B$201),"") | J27: =IFERROR(XLOOKUP(H27,Estancias!$A$2:$A$201,Estancias!$C$2:$C$201),"") | K27: =IFERROR(XLOOKUP(H27,Estancias!$A$2:$A$201,Estancias!$K$2:$K$201),"") | L27: =IF(E27="No",IF(G27>0,"ERROR: cajón inhabilitado ocupado","No habilitado"),IF(G27>1,"CONFLICTO: más de una unidad",IF(AND(G27=1,K27>Catálogos!$B$2),"REVISAR: estancia prolongada",""))) | N27: =IFERROR(Catálogos!E27,"")
A28: C-07 | B28: Zona C | C28: Estándar | D28: Hilera C, posición 07 | E28: Sí | G28: =COUNTIFS(Estancias!$D$2:$D$201,A28,Estancias!$J$2:$J$201,"Ocupando") | H28: =IF(G28=0,"",IFERROR(SUMPRODUCT(MAX((Estancias!$D$2:$D$201=A28)*(Estancias!$J$2:$J$201="Ocupando")*Estancias!$A$2:$A$201)),"")) | I28: =IFERROR(XLOOKUP(H28,Estancias!$A$2:$A$201,Estancias!$B$2:$B$201),"") | J28: =IFERROR(XLOOKUP(H28,Estancias!$A$2:$A$201,Estancias!$C$2:$C$201),"") | K28: =IFERROR(XLOOKUP(H28,Estancias!$A$2:$A$201,Estancias!$K$2:$K$201),"") | L28: =IF(E28="No",IF(G28>0,"ERROR: cajón inhabilitado ocupado","No habilitado"),IF(G28>1,"CONFLICTO: más de una unidad",IF(AND(G28=1,K28>Catálogos!$B$2),"REVISAR: estancia prolongada",""))) | N28: =IFERROR(Catálogos!E28,"")
A29: C-08 | B29: Zona C | C29: Compacto | D29: Hilera C, posición 08 | E29: Sí | G29: =COUNTIFS(Estancias!$D$2:$D$201,A29,Estancias!$J$2:$J$201,"Ocupando") | H29: =IF(G29=0,"",IFERROR(SUMPRODUCT(MAX((Estancias!$D$2:$D$201=A29)*(Estancias!$J$2:$J$201="Ocupando")*Estancias!$A$2:$A$201)),"")) | I29: =IFERROR(XLOOKUP(H29,Estancias!$A$2:$A$201,Estancias!$B$2:$B$201),"") | J29: =IFERROR(XLOOKUP(H29,Estancias!$A$2:$A$201,Estancias!$C$2:$C$201),"") | K29: =IFERROR(XLOOKUP(H29,Estancias!$A$2:$A$201,Estancias!$K$2:$K$201),"") | L29: =IF(E29="No",IF(G29>0,"ERROR: cajón inhabilitado ocupado","No habilitado"),IF(G29>1,"CONFLICTO: más de una unidad",IF(AND(G29=1,K29>Catálogos!$B$2),"REVISAR: estancia prolongada",""))) | N29: =IFERROR(Catálogos!E29,"")
A30: C-09 | B30: Zona C | C30: Vehículo alto | D30: Hilera C, posición 09 | E30: Sí | G30: =COUNTIFS(Estancias!$D$2:$D$201,A30,Estancias!$J$2:$J$201,"Ocupando") | H30: =IF(G30=0,"",IFERROR(SUMPRODUCT(MAX((Estancias!$D$2:$D$201=A30)*(Estancias!$J$2:$J$201="Ocupando")*Estancias!$A$2:$A$201)),"")) | I30: =IFERROR(XLOOKUP(H30,Estancias!$A$2:$A$201,Estancias!$B$2:$B$201),"") | J30: =IFERROR(XLOOKUP(H30,Estancias!$A$2:$A$201,Estancias!$C$2:$C$201),"") | K30: =IFERROR(XLOOKUP(H30,Estancias!$A$2:$A$201,Estancias!$K$2:$K$201),"") | L30: =IF(E30="No",IF(G30>0,"ERROR: cajón inhabilitado ocupado","No habilitado"),IF(G30>1,"CONFLICTO: más de una unidad",IF(AND(G30=1,K30>Catálogos!$B$2),"REVISAR: estancia prolongada",""))) | N30: =IFERROR(Catálogos!E30,"")
A31: C-10 | B31: Zona C | C31: Estándar | D31: Hilera C, posición 10 | E31: No | F31: Fuera de uso; revisar señalización interna | G31: =COUNTIFS(Estancias!$D$2:$D$201,A31,Estancias!$J$2:$J$201,"Ocupando") | H31: =IF(G31=0,"",IFERROR(SUMPRODUCT(MAX((Estancias!$D$2:$D$201=A31)*(Estancias!$J$2:$J$201="Ocupando")*Estancias!$A$2:$A$201)),"")) | I31: =IFERROR(XLOOKUP(H31,Estancias!$A$2:$A$201,Estancias!$B$2:$B$201),"") | J31: =IFERROR(XLOOKUP(H31,Estancias!$A$2:$A$201,Estancias!$C$2:$C$201),"") | K31: =IFERROR(XLOOKUP(H31,Estancias!$A$2:$A$201,Estancias!$K$2:$K$201),"") | L31: =IF(E31="No",IF(G31>0,"ERROR: cajón inhabilitado ocupado","No habilitado"),IF(G31>1,"CONFLICTO: más de una unidad",IF(AND(G31=1,K31>Catálogos!$B$2),"REVISAR: estancia prolongada",""))) | N31: =IFERROR(Catálogos!E31,"")
A32: D-01 | B32: Zona D | C32: Estándar | D32: Hilera D, posición 01 | E32: Sí | G32: =COUNTIFS(Estancias!$D$2:$D$201,A32,Estancias!$J$2:$J$201,"Ocupando") | H32: =IF(G32=0,"",IFERROR(SUMPRODUCT(MAX((Estancias!$D$2:$D$201=A32)*(Estancias!$J$2:$J$201="Ocupando")*Estancias!$A$2:$A$201)),"")) | I32: =IFERROR(XLOOKUP(H32,Estancias!$A$2:$A$201,Estancias!$B$2:$B$201),"") | J32: =IFERROR(XLOOKUP(H32,Estancias!$A$2:$A$201,Estancias!$C$2:$C$201),"") | K32: =IFERROR(XLOOKUP(H32,Estancias!$A$2:$A$201,Estancias!$K$2:$K$201),"") | L32: =IF(E32="No",IF(G32>0,"ERROR: cajón inhabilitado ocupado","No habilitado"),IF(G32>1,"CONFLICTO: más de una unidad",IF(AND(G32=1,K32>Catálogos!$B$2),"REVISAR: estancia prolongada",""))) | N32: =IFERROR(Catálogos!E32,"")
A33: D-02 | B33: Zona D | C33: Compacto | D33: Hilera D, posición 02 | E33: Sí | G33: =COUNTIFS(Estancias!$D$2:$D$201,A33,Estancias!$J$2:$J$201,"Ocupando") | H33: =IF(G33=0,"",IFERROR(SUMPRODUCT(MAX((Estancias!$D$2:$D$201=A33)*(Estancias!$J$2:$J$201="Ocupando")*Estancias!$A$2:$A$201)),"")) | I33: =IFERROR(XLOOKUP(H33,Estancias!$A$2:$A$201,Estancias!$B$2:$B$201),"") | J33: =IFERROR(XLOOKUP(H33,Estancias!$A$2:$A$201,Estancias!$C$2:$C$201),"") | K33: =IFERROR(XLOOKUP(H33,Estancias!$A$2:$A$201,Estancias!$K$2:$K$201),"") | L33: =IF(E33="No",IF(G33>0,"ERROR: cajón inhabilitado ocupado","No habilitado"),IF(G33>1,"CONFLICTO: más de una unidad",IF(AND(G33=1,K33>Catálogos!$B$2),"REVISAR: estancia prolongada",""))) | N33: =IFERROR(Catálogos!E33,"")
A34: D-03 | B34: Zona D | C34: Vehículo alto | D34: Hilera D, posición 03 | E34: Sí | G34: =COUNTIFS(Estancias!$D$2:$D$201,A34,Estancias!$J$2:$J$201,"Ocupando") | H34: =IF(G34=0,"",IFERROR(SUMPRODUCT(MAX((Estancias!$D$2:$D$201=A34)*(Estancias!$J$2:$J$201="Ocupando")*Estancias!$A$2:$A$201)),"")) | I34: =IFERROR(XLOOKUP(H34,Estancias!$A$2:$A$201,Estancias!$B$2:$B$201),"") | J34: =IFERROR(XLOOKUP(H34,Estancias!$A$2:$A$201,Estancias!$C$2:$C$201),"") | K34: =IFERROR(XLOOKUP(H34,Estancias!$A$2:$A$201,Estancias!$K$2:$K$201),"") | L34: =IF(E34="No",IF(G34>0,"ERROR: cajón inhabilitado ocupado","No habilitado"),IF(G34>1,"CONFLICTO: más de una unidad",IF(AND(G34=1,K34>Catálogos!$B$2),"REVISAR: estancia prolongada",""))) | N34: =IFERROR(Catálogos!E34,"")
A35: D-04 | B35: Zona D | C35: Estándar | D35: Hilera D, posición 04 | E35: Sí | G35: =COUNTIFS(Estancias!$D$2:$D$201,A35,Estancias!$J$2:$J$201,"Ocupando") | H35: =IF(G35=0,"",IFERROR(SUMPRODUCT(MAX((Estancias!$D$2:$D$201=A35)*(Estancias!$J$2:$J$201="Ocupando")*Estancias!$A$2:$A$201)),"")) | I35: =IFERROR(XLOOKUP(H35,Estancias!$A$2:$A$201,Estancias!$B$2:$B$201),"") | J35: =IFERROR(XLOOKUP(H35,Estancias!$A$2:$A$201,Estancias!$C$2:$C$201),"") | K35: =IFERROR(XLOOKUP(H35,Estancias!$A$2:$A$201,Estancias!$K$2:$K$201),"") | L35: =IF(E35="No",IF(G35>0,"ERROR: cajón inhabilitado ocupado","No habilitado"),IF(G35>1,"CONFLICTO: más de una unidad",IF(AND(G35=1,K35>Catálogos!$B$2),"REVISAR: estancia prolongada",""))) | N35: =IFERROR(Catálogos!E35,"")
A36: D-05 | B36: Zona D | C36: Compacto | D36: Hilera D, posición 05 | E36: Sí | G36: =COUNTIFS(Estancias!$D$2:$D$201,A36,Estancias!$J$2:$J$201,"Ocupando") | H36: =IF(G36=0,"",IFERROR(SUMPRODUCT(MAX((Estancias!$D$2:$D$201=A36)*(Estancias!$J$2:$J$201="Ocupando")*Estancias!$A$2:$A$201)),"")) | I36: =IFERROR(XLOOKUP(H36,Estancias!$A$2:$A$201,Estancias!$B$2:$B$201),"") | J36: =IFERROR(XLOOKUP(H36,Estancias!$A$2:$A$201,Estancias!$C$2:$C$201),"") | K36: =IFERROR(XLOOKUP(H36,Estancias!$A$2:$A$201,Estancias!$K$2:$K$201),"") | L36: =IF(E36="No",IF(G36>0,"ERROR: cajón inhabilitado ocupado","No habilitado"),IF(G36>1,"CONFLICTO: más de una unidad",IF(AND(G36=1,K36>Catálogos!$B$2),"REVISAR: estancia prolongada",""))) | N36: =IFERROR(Catálogos!E36,"")
A37: D-06 | B37: Zona D | C37: Vehículo alto | D37: Hilera D, posición 06 | E37: Sí | G37: =COUNTIFS(Estancias!$D$2:$D$201,A37,Estancias!$J$2:$J$201,"Ocupando") | H37: =IF(G37=0,"",IFERROR(SUMPRODUCT(MAX((Estancias!$D$2:$D$201=A37)*(Estancias!$J$2:$J$201="Ocupando")*Estancias!$A$2:$A$201)),"")) | I37: =IFERROR(XLOOKUP(H37,Estancias!$A$2:$A$201,Estancias!$B$2:$B$201),"") | J37: =IFERROR(XLOOKUP(H37,Estancias!$A$2:$A$201,Estancias!$C$2:$C$201),"") | K37: =IFERROR(XLOOKUP(H37,Estancias!$A$2:$A$201,Estancias!$K$2:$K$201),"") | L37: =IF(E37="No",IF(G37>0,"ERROR: cajón inhabilitado ocupado","No habilitado"),IF(G37>1,"CONFLICTO: más de una unidad",IF(AND(G37=1,K37>Catálogos!$B$2),"REVISAR: estancia prolongada",""))) | N37: =IFERROR(Catálogos!E37,"")
A38: D-07 | B38: Zona D | C38: Estándar | D38: Hilera D, posición 07 | E38: Sí | G38: =COUNTIFS(Estancias!$D$2:$D$201,A38,Estancias!$J$2:$J$201,"Ocupando") | H38: =IF(G38=0,"",IFERROR(SUMPRODUCT(MAX((Estancias!$D$2:$D$201=A38)*(Estancias!$J$2:$J$201="Ocupando")*Estancias!$A$2:$A$201)),"")) | I38: =IFERROR(XLOOKUP(H38,Estancias!$A$2:$A$201,Estancias!$B$2:$B$201),"") | J38: =IFERROR(XLOOKUP(H38,Estancias!$A$2:$A$201,Estancias!$C$2:$C$201),"") | K38: =IFERROR(XLOOKUP(H38,Estancias!$A$2:$A$201,Estancias!$K$2:$K$201),"") | L38: =IF(E38="No",IF(G38>0,"ERROR: cajón inhabilitado ocupado","No habilitado"),IF(G38>1,"CONFLICTO: más de una unidad",IF(AND(G38=1,K38>Catálogos!$B$2),"REVISAR: estancia prolongada",""))) | N38: =IFERROR(Catálogos!E38,"")
A39: D-08 | B39: Zona D | C39: Compacto | D39: Hilera D, posición 08 | E39: Sí | G39: =COUNTIFS(Estancias!$D$2:$D$201,A39,Estancias!$J$2:$J$201,"Ocupando") | H39: =IF(G39=0,"",IFERROR(SUMPRODUCT(MAX((Estancias!$D$2:$D$201=A39)*(Estancias!$J$2:$J$201="Ocupando")*Estancias!$A$2:$A$201)),"")) | I39: =IFERROR(XLOOKUP(H39,Estancias!$A$2:$A$201,Estancias!$B$2:$B$201),"") | J39: =IFERROR(XLOOKUP(H39,Estancias!$A$2:$A$201,Estancias!$C$2:$C$201),"") | K39: =IFERROR(XLOOKUP(H39,Estancias!$A$2:$A$201,Estancias!$K$2:$K$201),"") | L39: =IF(E39="No",IF(G39>0,"ERROR: cajón inhabilitado ocupado","No habilitado"),IF(G39>1,"CONFLICTO: más de una unidad",IF(AND(G39=1,K39>Catálogos!$B$2),"REVISAR: estancia prolongada",""))) | N39: =IFERROR(Catálogos!E39,"")
A40: D-09 | B40: Zona D | C40: Vehículo alto | D40: Hilera D, posición 09 | E40: Sí | G40: =COUNTIFS(Estancias!$D$2:$D$201,A40,Estancias!$J$2:$J$201,"Ocupando") | H40: =IF(G40=0,"",IFERROR(SUMPRODUCT(MAX((Estancias!$D$2:$D$201=A40)*(Estancias!$J$2:$J$201="Ocupando")*Estancias!$A$2:$A$201)),"")) | I40: =IFERROR(XLOOKUP(H40,Estancias!$A$2:$A$201,Estancias!$B$2:$B$201),"") | J40: =IFERROR(XLOOKUP(H40,Estancias!$A$2:$A$201,Estancias!$C$2:$C$201),"") | K40: =IFERROR(XLOOKUP(H40,Estancias!$A$2:$A$201,Estancias!$K$2:$K$201),"") | L40: =IF(E40="No",IF(G40>0,"ERROR: cajón inhabilitado ocupado","No habilitado"),IF(G40>1,"CONFLICTO: más de una unidad",IF(AND(G40=1,K40>Catálogos!$B$2),"REVISAR: estancia prolongada",""))) | N40: =IFERROR(Catálogos!E40,"")
...

Sheet Estancias
A1: Folio | B1: Clave de unidad | C1: Descripción visual | D1: Cajón | E1: Fecha de ingreso | F1: Hora de ingreso | G1: Fecha de salida | H1: Hora de salida | I1: Motivo de ubicación | J1: Estado | K1: Horas de estancia | L1: Observaciones
A2: 1001 | B2: DEMO-001 | C2: Unidad simulada roja | D2: A-01 | E2: 46273 | F2: 0.34375 | I2: Espera de servicio | J2: =IF(COUNTA(A2:I2)=0,"",IF(OR(A2="",B2="",D2="",E2="",F2=""),"Incompleto",IF(AND(G2="",H2=""),"Ocupando",IF(AND(G2<>"",H2<>""),"Liberado","Incompleto")))) | K2: =IF(OR(E2="",F2=""),"",IF(AND(G2<>"",H2<>""),MAX(0,24*((G2+H2)-(E2+F2))),IF(AND(G2="",H2=""),MAX(0,24*(NOW()-(E2+F2))),""))) | L2: Ejemplo ficticio; recepción inicial | N2: =IFERROR(Cajones!A2,"") | O2: =IFERROR(Catálogos!F2,"")
A3: 1002 | B3: DEMO-002 | C3: SUV simulada gris | D3: A-02 | E3: 46275 | F3: 0.31944444 | I3: Ajuste operativo | J3: =IF(COUNTA(A3:I3)=0,"",IF(OR(A3="",B3="",D3="",E3="",F3=""),"Incompleto",IF(AND(G3="",H3=""),"Ocupando",IF(AND(G3<>"",H3<>""),"Liberado","Incompleto")))) | K3: =IF(OR(E3="",F3=""),"",IF(AND(G3<>"",H3<>""),MAX(0,24*((G3+H3)-(E3+F3))),IF(AND(G3="",H3=""),MAX(0,24*(NOW()-(E3+F3))),""))) | L3: Ejemplo ficticio; pendiente de movimiento | N3: =IFERROR(Cajones!A3,"") | O3: =IFERROR(Catálogos!F3,"")
A4: 1003 | B4: DEMO-003 | C4: Pickup simulada blanca | D4: B-01 | E4: 46274 | F4: 0.55555556 | G4: 46275 | H4: 0.38194444 | I4: Espera de entrega | J4: =IF(COUNTA(A4:I4)=0,"",IF(OR(A4="",B4="",D4="",E4="",F4=""),"Incompleto",IF(AND(G4="",H4=""),"Ocupando",IF(AND(G4<>"",H4<>""),"Liberado","Incompleto")))) | K4: =IF(OR(E4="",F4=""),"",IF(AND(G4<>"",H4<>""),MAX(0,24*((G4+H4)-(E4+F4))),IF(AND(G4="",H4=""),MAX(0,24*(NOW()-(E4+F4))),""))) | L4: Ejemplo ficticio; salida completa | N4: =IFERROR(Cajones!A4,"") | O4: =IFERROR(Catálogos!F4,"")
A5: 1004 | B5: DEMO-004 | C5: Sedán simulado azul | D5: C-03 | E5: 46272 | F5: 0.45833333 | I5: Resguardo temporal | J5: =IF(COUNTA(A5:I5)=0,"",IF(OR(A5="",B5="",D5="",E5="",F5=""),"Incompleto",IF(AND(G5="",H5=""),"Ocupando",IF(AND(G5<>"",H5<>""),"Liberado","Incompleto")))) | K5: =IF(OR(E5="",F5=""),"",IF(AND(G5<>"",H5<>""),MAX(0,24*((G5+H5)-(E5+F5))),IF(AND(G5="",H5=""),MAX(0,24*(NOW()-(E5+F5))),""))) | L5: Ejemplo ficticio; revisar duración | N5: =IFERROR(Cajones!A5,"") | O5: =IFERROR(Catálogos!F5,"")
A6: 1005 | B6: DEMO-005 | C6: Unidad simulada negra | D6: D-04 | E6: 46273 | F6: 0.4375 | G6: 46274 | H6: 0.625 | I6: Espera de servicio | J6: =IF(COUNTA(A6:I6)=0,"",IF(OR(A6="",B6="",D6="",E6="",F6=""),"Incompleto",IF(AND(G6="",H6=""),"Ocupando",IF(AND(G6<>"",H6<>""),"Liberado","Incompleto")))) | K6: =IF(OR(E6="",F6=""),"",IF(AND(G6<>"",H6<>""),MAX(0,24*((G6+H6)-(E6+F6))),IF(AND(G6="",H6=""),MAX(0,24*(NOW()-(E6+F6))),""))) | L6: Ejemplo ficticio; salida completa | N6: =IFERROR(Cajones!A6,"") | O6: =IFERROR(Catálogos!F6,"")
A7: 1006 | B7: DEMO-006 | C7: Van simulada plata | D7: A-05 | E7: 46275 | F7: 0.375 | I7: Ajuste operativo | J7: =IF(COUNTA(A7:I7)=0,"",IF(OR(A7="",B7="",D7="",E7="",F7=""),"Incompleto",IF(AND(G7="",H7=""),"Ocupando",IF(AND(G7<>"",H7<>""),"Liberado","Incompleto")))) | K7: =IF(OR(E7="",F7=""),"",IF(AND(G7<>"",H7<>""),MAX(0,24*((G7+H7)-(E7+F7))),IF(AND(G7="",H7=""),MAX(0,24*(NOW()-(E7+F7))),""))) | L7: Ejemplo ficticio; ubicación activa | N7: =IFERROR(Cajones!A7,"") | O7: =IFERROR(Catálogos!F7,"")
A8: 1007 | B8: DEMO-007 | C8: Compacto simulado verde | D8: B-02 | E8: 46274 | F8: 0.33333333 | G8: 46274 | H8: 0.75 | I8: Espera de entrega | J8: =IF(COUNTA(A8:I8)=0,"",IF(OR(A8="",B8="",D8="",E8="",F8=""),"Incompleto",IF(AND(G8="",H8=""),"Ocupando",IF(AND(G8<>"",H8<>""),"Liberado","Incompleto")))) | K8: =IF(OR(E8="",F8=""),"",IF(AND(G8<>"",H8<>""),MAX(0,24*((G8+H8)-(E8+F8))),IF(AND(G8="",H8=""),MAX(0,24*(NOW()-(E8+F8))),""))) | L8: Ejemplo ficticio; salida completa | N8: =IFERROR(Cajones!A8,"") | O8: =IFERROR(Catálogos!F8,"")
A9: 1008 | B9: DEMO-008 | C9: SUV simulada blanca | D9: C-06 | E9: 46275 | F9: 0.27083333 | I9: Espera de servicio | J9: =IF(COUNTA(A9:I9)=0,"",IF(OR(A9="",B9="",D9="",E9="",F9=""),"Incompleto",IF(AND(G9="",H9=""),"Ocupando",IF(AND(G9<>"",H9<>""),"Liberado","Incompleto")))) | K9: =IF(OR(E9="",F9=""),"",IF(AND(G9<>"",H9<>""),MAX(0,24*((G9+H9)-(E9+F9))),IF(AND(G9="",H9=""),MAX(0,24*(NOW()-(E9+F9))),""))) | L9: Ejemplo ficticio; ubicación activa | N9: =IFERROR(Cajones!A9,"") | O9: =IFERROR(Catálogos!F9,"")
A10: 1009 | B10: DEMO-009 | C10: Sedán simulado gris | D10: D-01 | E10: 46273 | F10: 0.5 | G10: 46274 | H10: 0.41666667 | I10: Resguardo temporal | J10: =IF(COUNTA(A10:I10)=0,"",IF(OR(A10="",B10="",D10="",E10="",F10=""),"Incompleto",IF(AND(G10="",H10=""),"Ocupando",IF(AND(G10<>"",H10<>""),"Liberado","Incompleto")))) | K10: =IF(OR(E10="",F10=""),"",IF(AND(G10<>"",H10<>""),MAX(0,24*((G10+H10)-(E10+F10))),IF(AND(G10="",H10=""),MAX(0,24*(NOW()-(E10+F10))),""))) | L10: Ejemplo ficticio; salida completa | N10: =IFERROR(Cajones!A10,"") | O10: =IFERROR(Catálogos!F10,"")
A11: 1010 | B11: DEMO-010 | C11: Unidad simulada azul | D11: A-08 | E11: 46275 | F11: 0.36805556 | I11: Espera de entrega | J11: =IF(COUNTA(A11:I11)=0,"",IF(OR(A11="",B11="",D11="",E11="",F11=""),"Incompleto",IF(AND(G11="",H11=""),"Ocupando",IF(AND(G11<>"",H11<>""),"Liberado","Incompleto")))) | K11: =IF(OR(E11="",F11=""),"",IF(AND(G11<>"",H11<>""),MAX(0,24*((G11+H11)-(E11+F11))),IF(AND(G11="",H11=""),MAX(0,24*(NOW()-(E11+F11))),""))) | L11: Ejemplo ficticio; ubicación activa | N11: =IFERROR(Cajones!A11,"") | O11: =IFERROR(Catálogos!F11,"")
J12: =IF(COUNTA(A12:I12)=0,"",IF(OR(A12="",B12="",D12="",E12="",F12=""),"Incompleto",IF(AND(G12="",H12=""),"Ocupando",IF(AND(G12<>"",H12<>""),"Liberado","Incompleto")))) | K12: =IF(OR(E12="",F12=""),"",IF(AND(G12<>"",H12<>""),MAX(0,24*((G12+H12)-(E12+F12))),IF(AND(G12="",H12=""),MAX(0,24*(NOW()-(E12+F12))),""))) | N12: =IFERROR(Cajones!A12,"") | O12: =IFERROR(Catálogos!F12,"")
J13: =IF(COUNTA(A13:I13)=0,"",IF(OR(A13="",B13="",D13="",E13="",F13=""),"Incompleto",IF(AND(G13="",H13=""),"Ocupando",IF(AND(G13<>"",H13<>""),"Liberado","Incompleto")))) | K13: =IF(OR(E13="",F13=""),"",IF(AND(G13<>"",H13<>""),MAX(0,24*((G13+H13)-(E13+F13))),IF(AND(G13="",H13=""),MAX(0,24*(NOW()-(E13+F13))),""))) | N13: =IFERROR(Cajones!A13,"") | O13: =IFERROR(Catálogos!F13,"")
J14: =IF(COUNTA(A14:I14)=0,"",IF(OR(A14="",B14="",D14="",E14="",F14=""),"Incompleto",IF(AND(G14="",H14=""),"Ocupando",IF(AND(G14<>"",H14<>""),"Liberado","Incompleto")))) | K14: =IF(OR(E14="",F14=""),"",IF(AND(G14<>"",H14<>""),MAX(0,24*((G14+H14)-(E14+F14))),IF(AND(G14="",H14=""),MAX(0,24*(NOW()-(E14+F14))),""))) | N14: =IFERROR(Cajones!A14,"") | O14: =IFERROR(Catálogos!F14,"")
J15: =IF(COUNTA(A15:I15)=0,"",IF(OR(A15="",B15="",D15="",E15="",F15=""),"Incompleto",IF(AND(G15="",H15=""),"Ocupando",IF(AND(G15<>"",H15<>""),"Liberado","Incompleto")))) | K15: =IF(OR(E15="",F15=""),"",IF(AND(G15<>"",H15<>""),MAX(0,24*((G15+H15)-(E15+F15))),IF(AND(G15="",H15=""),MAX(0,24*(NOW()-(E15+F15))),""))) | N15: =IFERROR(Cajones!A15,"") | O15: =IFERROR(Catálogos!F15,"")
J16: =IF(COUNTA(A16:I16)=0,"",IF(OR(A16="",B16="",D16="",E16="",F16=""),"Incompleto",IF(AND(G16="",H16=""),"Ocupando",IF(AND(G16<>"",H16<>""),"Liberado","Incompleto")))) | K16: =IF(OR(E16="",F16=""),"",IF(AND(G16<>"",H16<>""),MAX(0,24*((G16+H16)-(E16+F16))),IF(AND(G16="",H16=""),MAX(0,24*(NOW()-(E16+F16))),""))) | N16: =IFERROR(Cajones!A16,"") | O16: =IFERROR(Catálogos!F16,"")
J17: =IF(COUNTA(A17:I17)=0,"",IF(OR(A17="",B17="",D17="",E17="",F17=""),"Incompleto",IF(AND(G17="",H17=""),"Ocupando",IF(AND(G17<>"",H17<>""),"Liberado","Incompleto")))) | K17: =IF(OR(E17="",F17=""),"",IF(AND(G17<>"",H17<>""),MAX(0,24*((G17+H17)-(E17+F17))),IF(AND(G17="",H17=""),MAX(0,24*(NOW()-(E17+F17))),""))) | N17: =IFERROR(Cajones!A17,"") | O17: =IFERROR(Catálogos!F17,"")
J18: =IF(COUNTA(A18:I18)=0,"",IF(OR(A18="",B18="",D18="",E18="",F18=""),"Incompleto",IF(AND(G18="",H18=""),"Ocupando",IF(AND(G18<>"",H18<>""),"Liberado","Incompleto")))) | K18: =IF(OR(E18="",F18=""),"",IF(AND(G18<>"",H18<>""),MAX(0,24*((G18+H18)-(E18+F18))),IF(AND(G18="",H18=""),MAX(0,24*(NOW()-(E18+F18))),""))) | N18: =IFERROR(Cajones!A18,"") | O18: =IFERROR(Catálogos!F18,"")
J19: =IF(COUNTA(A19:I19)=0,"",IF(OR(A19="",B19="",D19="",E19="",F19=""),"Incompleto",IF(AND(G19="",H19=""),"Ocupando",IF(AND(G19<>"",H19<>""),"Liberado","Incompleto")))) | K19: =IF(OR(E19="",F19=""),"",IF(AND(G19<>"",H19<>""),MAX(0,24*((G19+H19)-(E19+F19))),IF(AND(G19="",H19=""),MAX(0,24*(NOW()-(E19+F19))),""))) | N19: =IFERROR(Cajones!A19,"") | O19: =IFERROR(Catálogos!F19,"")
J20: =IF(COUNTA(A20:I20)=0,"",IF(OR(A20="",B20="",D20="",E20="",F20=""),"Incompleto",IF(AND(G20="",H20=""),"Ocupando",IF(AND(G20<>"",H20<>""),"Liberado","Incompleto")))) | K20: =IF(OR(E20="",F20=""),"",IF(AND(G20<>"",H20<>""),MAX(0,24*((G20+H20)-(E20+F20))),IF(AND(G20="",H20=""),MAX(0,24*(NOW()-(E20+F20))),""))) | N20: =IFERROR(Cajones!A20,"") | O20: =IFERROR(Catálogos!F20,"")
J21: =IF(COUNTA(A21:I21)=0,"",IF(OR(A21="",B21="",D21="",E21="",F21=""),"Incompleto",IF(AND(G21="",H21=""),"Ocupando",IF(AND(G21<>"",H21<>""),"Liberado","Incompleto")))) | K21: =IF(OR(E21="",F21=""),"",IF(AND(G21<>"",H21<>""),MAX(0,24*((G21+H21)-(E21+F21))),IF(AND(G21="",H21=""),MAX(0,24*(NOW()-(E21+F21))),""))) | N21: =IFERROR(Cajones!A21,"") | O21: =IFERROR(Catálogos!F21,"")
J22: =IF(COUNTA(A22:I22)=0,"",IF(OR(A22="",B22="",D22="",E22="",F22=""),"Incompleto",IF(AND(G22="",H22=""),"Ocupando",IF(AND(G22<>"",H22<>""),"Liberado","Incompleto")))) | K22: =IF(OR(E22="",F22=""),"",IF(AND(G22<>"",H22<>""),MAX(0,24*((G22+H22)-(E22+F22))),IF(AND(G22="",H22=""),MAX(0,24*(NOW()-(E22+F22))),""))) | N22: =IFERROR(Cajones!A22,"") | O22: =IFERROR(Catálogos!F22,"")
J23: =IF(COUNTA(A23:I23)=0,"",IF(OR(A23="",B23="",D23="",E23="",F23=""),"Incompleto",IF(AND(G23="",H23=""),"Ocupando",IF(AND(G23<>"",H23<>""),"Liberado","Incompleto")))) | K23: =IF(OR(E23="",F23=""),"",IF(AND(G23<>"",H23<>""),MAX(0,24*((G23+H23)-(E23+F23))),IF(AND(G23="",H23=""),MAX(0,24*(NOW()-(E23+F23))),""))) | N23: =IFERROR(Cajones!A23,"") | O23: =IFERROR(Catálogos!F23,"")
... J201: =IF(COUNTA(A201:I201)=0,"",IF(OR(A201="",B201="",D201="",E201="",F201=""),"Incompleto",IF(AND(G201="",H201=""),"Ocupando",IF(AND(G201<>"",H201<>""),"Liberado","Incompleto")))) | K201: =IF(OR(E201="",F201=""),"",IF(AND(G201<>"",H201<>""),MAX(0,24*((G201+H201)-(E201+F201))),IF(AND(G201="",H201=""),MAX(0,24*(NOW()-(E201+F201))),""))) | N201: =IFERROR(Cajones!A201,"") | O201: =IFERROR(Catálogos!F201,"")

Sheet Catálogos
A1: Parámetro operativo | B1: Valor editable | D1: ListaSiNo | E1: ListaTipos | F1: ListaMotivos
A2: Límite de estancia en horas | B2: 72 | D2: Sí | E2: Compacto | F2: Espera de servicio
D3: No | E3: Estándar | F3: Ajuste operativo
E4: Vehículo alto | F4: Espera de entrega
F5: Resguardo temporal
A6: Indicaciones de uso | B6: Criterio interno
A7: Alcance | B7: Mapa interno de ubicación; no sustituye órdenes de reparación, controles de llaves ni registros oficiales.
A8: Datos permitidos | B8: Use claves internas no sensibles. No capture nombres, teléfonos, placas ni VIN.
A9: Actualización | B9: Las horas de las estancias activas cambian cuando Excel recalcula el libro.
A10: Prueba de conflicto | B10: Duplicar deliberadamente una estancia activa en A-01 mostrará CONFLICTO; elimine la prueba después.
A11: Límite operativo | B11: El límite editable es un criterio interno de revisión y no garantiza cumplimiento legal o contractual.
