Workbook

Sheet Resumen
A1: Resumen administrativo de inspecciones generales
A3: Indicador de registros | B3: Valor | D3: Prioridad | E3: Total | F3: No cerrados
A4: Inspecciones capturadas | B4: =COUNTIF(Inspecciones!$A$3:$A$112,"<>") | D4: Alta | E4: =COUNTIF(Detalle!$G$3:$G$110,D4) | F4: =COUNTIFS(Detalle!$G$3:$G$110,D4,Detalle!$K$3:$K$110,"<>Cerrado")
A5: Con puntos de detalle | B5: =COUNTIF(Inspecciones!$J$3:$J$112,"<>Sin captura")-COUNTIF(Inspecciones!$J$3:$J$112,"") | D5: Media | E5: =COUNTIF(Detalle!$G$3:$G$110,D5) | F5: =COUNTIFS(Detalle!$G$3:$G$110,D5,Detalle!$K$3:$K$110,"<>Cerrado")
A6: Atender antes de cierre | B6: =COUNTIF(Inspecciones!$J$3:$J$112,"Atender antes de cierre") | D6: Baja | E6: =COUNTIF(Detalle!$G$3:$G$110,D6) | F6: =COUNTIFS(Detalle!$G$3:$G$110,D6,Detalle!$K$3:$K$110,"<>Cerrado")
A7: Completar revisión | B7: =COUNTIF(Inspecciones!$J$3:$J$112,"Completar revisión") | D7: Pendiente | E7: =COUNTIF(Detalle!$G$3:$G$110,D7) | F7: =COUNTIFS(Detalle!$G$3:$G$110,D7,Detalle!$K$3:$K$110,"<>Cerrado")
A8: Puede cerrar registro | B8: =COUNTIF(Inspecciones!$J$3:$J$112,"Puede cerrar registro") | D8: Sin acción | E8: =COUNTIF(Detalle!$G$3:$G$110,D8) | F8: =COUNTIFS(Detalle!$G$3:$G$110,D8,Detalle!$K$3:$K$110,"<>Cerrado")
A9: Sin captura de detalle | B9: =COUNTIF(Inspecciones!$J$3:$J$112,"Sin captura") | D9: No aplica | E9: =COUNTIF(Detalle!$G$3:$G$110,D9) | F9: =COUNTIFS(Detalle!$G$3:$G$110,D9,Detalle!$K$3:$K$110,"<>Cerrado")
A12: Sistema | B12: Puntos registrados | C12: Pendientes o hallazgos no cerrados | E12: Comprobación | F12: Resultado
A13: Motor y fluidos | B13: =COUNTIF(Detalle!$C$3:$C$110,A13) | C13: =COUNTIFS(Detalle!$C$3:$C$110,A13,Detalle!$G$3:$G$110,"<>",Detalle!$G$3:$G$110,"<>Sin acción",Detalle!$G$3:$G$110,"<>No aplica",Detalle!$K$3:$K$110,"<>Cerrado") | E13: DEMO-001 genera prioridades | F13: =IF(AND(COUNTIFS(Detalle!$A$3:$A$110,"DEMO-001",Detalle!$G$3:$G$110,"Alta")>=1,COUNTIFS(Detalle!$A$3:$A$110,"DEMO-001",Detalle!$G$3:$G$110,"Baja")>=1,COUNTIFS(Detalle!$A$3:$A$110,"DEMO-001",Detalle!$G$3:$G$110,"Sin acción")>=1),"Correcto","REVISAR")
A14: Sistema eléctrico | B14: =COUNTIF(Detalle!$C$3:$C$110,A14) | C14: =COUNTIFS(Detalle!$C$3:$C$110,A14,Detalle!$G$3:$G$110,"<>",Detalle!$G$3:$G$110,"<>Sin acción",Detalle!$G$3:$G$110,"<>No aplica",Detalle!$K$3:$K$110,"<>Cerrado") | E14: No revisado produce Pendiente | F14: =IF(COUNTIF(Detalle!$E$3:$E$110,"No revisado")=0,"Sin datos",IF(COUNTIFS(Detalle!$E$3:$E$110,"No revisado",Detalle!$G$3:$G$110,"Pendiente")=COUNTIF(Detalle!$E$3:$E$110,"No revisado"),"Correcto","REVISAR"))
A15: Iluminación | B15: =COUNTIF(Detalle!$C$3:$C$110,A15) | C15: =COUNTIFS(Detalle!$C$3:$C$110,A15,Detalle!$G$3:$G$110,"<>",Detalle!$G$3:$G$110,"<>Sin acción",Detalle!$G$3:$G$110,"<>No aplica",Detalle!$K$3:$K$110,"<>Cerrado") | E15: Folios no registrados | F15: =IF(SUMPRODUCT(--(Detalle!$A$3:$A$110<>""),--(COUNTIF(Inspecciones!$A$3:$A$112,Detalle!$A$3:$A$110)=0))>0,"REVISAR","Sin incidencias")
A16: Visibilidad | B16: =COUNTIF(Detalle!$C$3:$C$110,A16) | C16: =COUNTIFS(Detalle!$C$3:$C$110,A16,Detalle!$G$3:$G$110,"<>",Detalle!$G$3:$G$110,"<>Sin acción",Detalle!$G$3:$G$110,"<>No aplica",Detalle!$K$3:$K$110,"<>Cerrado") | E16: Decisiones calculadas | F16: =IF(COUNTIFS(Inspecciones!$A$3:$A$112,"<>",Inspecciones!$J$3:$J$112,"")=0,"Correcto","REVISAR")
A17: Seguridad interior | B17: =COUNTIF(Detalle!$C$3:$C$110,A17) | C17: =COUNTIFS(Detalle!$C$3:$C$110,A17,Detalle!$G$3:$G$110,"<>",Detalle!$G$3:$G$110,"<>Sin acción",Detalle!$G$3:$G$110,"<>No aplica",Detalle!$K$3:$K$110,"<>Cerrado")
A18: Señalización | B18: =COUNTIF(Detalle!$C$3:$C$110,A18) | C18: =COUNTIFS(Detalle!$C$3:$C$110,A18,Detalle!$G$3:$G$110,"<>",Detalle!$G$3:$G$110,"<>Sin acción",Detalle!$G$3:$G$110,"<>No aplica",Detalle!$K$3:$K$110,"<>Cerrado")
A19: Llantas | B19: =COUNTIF(Detalle!$C$3:$C$110,A19) | C19: =COUNTIFS(Detalle!$C$3:$C$110,A19,Detalle!$G$3:$G$110,"<>",Detalle!$G$3:$G$110,"<>Sin acción",Detalle!$G$3:$G$110,"<>No aplica",Detalle!$K$3:$K$110,"<>Cerrado") | E19: Clave visual | F19: Uso
A20: Equipo | B20: =COUNTIF(Detalle!$C$3:$C$110,A20) | C20: =COUNTIFS(Detalle!$C$3:$C$110,A20,Detalle!$G$3:$G$110,"<>",Detalle!$G$3:$G$110,"<>Sin acción",Detalle!$G$3:$G$110,"<>No aplica",Detalle!$K$3:$K$110,"<>Cerrado") | E20: Entrada editable | F20: Captura manual
A21: Frenos | B21: =COUNTIF(Detalle!$C$3:$C$110,A21) | C21: =COUNTIFS(Detalle!$C$3:$C$110,A21,Detalle!$G$3:$G$110,"<>",Detalle!$G$3:$G$110,"<>Sin acción",Detalle!$G$3:$G$110,"<>No aplica",Detalle!$K$3:$K$110,"<>Cerrado") | E21: Parámetro editable | F21: Días objetivo
A22: Carrocería | B22: =COUNTIF(Detalle!$C$3:$C$110,A22) | C22: =COUNTIFS(Detalle!$C$3:$C$110,A22,Detalle!$G$3:$G$110,"<>",Detalle!$G$3:$G$110,"<>Sin acción",Detalle!$G$3:$G$110,"<>No aplica",Detalle!$K$3:$K$110,"<>Cerrado") | E22: Cálculo | F22: Fórmula automática
A23: Instrumentación | B23: =COUNTIF(Detalle!$C$3:$C$110,A23) | C23: =COUNTIFS(Detalle!$C$3:$C$110,A23,Detalle!$G$3:$G$110,"<>",Detalle!$G$3:$G$110,"<>Sin acción",Detalle!$G$3:$G$110,"<>No aplica",Detalle!$K$3:$K$110,"<>Cerrado")
A24: Confort | B24: =COUNTIF(Detalle!$C$3:$C$110,A24) | C24: =COUNTIFS(Detalle!$C$3:$C$110,A24,Detalle!$G$3:$G$110,"<>",Detalle!$G$3:$G$110,"<>Sin acción",Detalle!$G$3:$G$110,"<>No aplica",Detalle!$K$3:$K$110,"<>Cerrado")
A27: Alcance | B27: Este libro organiza una revisión visual y funcional general y apoya el cierre administrativo. No emite diagnósticos, presupuestos, órdenes de reparación, certificados ni conclusiones sobre seguridad o aptitud para circular. No sustituye procedimientos técnicos del fabricante. Los registros DEMO son ficticios y no contienen nombres, teléfonos, placas ni VIN.

Sheet Inspecciones
A1: Inspecciones generales | Registros DEMO inequívocamente ficticios
A2: Folio | B2: Fecha | C2: Vehículo interno | D2: Año modelo | E2: Kilometraje | F2: Tipo de vehículo | G2: Responsable | H2: Hallazgos altos abiertos | I2: Puntos pendientes | J2: Decisión administrativa | K2: Comentario general
A3: DEMO-001 | B3: 46273 | C3: VEH-DEMO-A | D3: 2022 | E3: 45800 | F3: Sedán | G3: TEC-01 | H3: =IF(A3="","",COUNTIFS(Detalle!$A$3:$A$110,A3,Detalle!$G$3:$G$110,"Alta",Detalle!$K$3:$K$110,"<>Cerrado")) | I3: =IF(A3="","",COUNTIFS(Detalle!$A$3:$A$110,A3,Detalle!$G$3:$G$110,"Pendiente")) | J3: =IF(A3="","",IF(COUNTIF(Detalle!$A$3:$A$110,A3)=0,"Sin captura",IF(H3>0,"Atender antes de cierre",IF(I3>0,"Completar revisión","Puede cerrar registro")))) | K3: Registro ficticio DEMO para práctica.
A4: DEMO-002 | B4: 46274 | C4: VEH-DEMO-B | D4: 2020 | E4: 78350 | F4: Pickup | G4: TEC-02 | H4: =IF(A4="","",COUNTIFS(Detalle!$A$3:$A$110,A4,Detalle!$G$3:$G$110,"Alta",Detalle!$K$3:$K$110,"<>Cerrado")) | I4: =IF(A4="","",COUNTIFS(Detalle!$A$3:$A$110,A4,Detalle!$G$3:$G$110,"Pendiente")) | J4: =IF(A4="","",IF(COUNTIF(Detalle!$A$3:$A$110,A4)=0,"Sin captura",IF(H4>0,"Atender antes de cierre",IF(I4>0,"Completar revisión","Puede cerrar registro")))) | K4: Registro ficticio DEMO para práctica.
A5: DEMO-003 | B5: 46275 | C5: VEH-DEMO-C | D5: 2024 | E5: 12640 | F5: SUV | G5: TEC-03 | H5: =IF(A5="","",COUNTIFS(Detalle!$A$3:$A$110,A5,Detalle!$G$3:$G$110,"Alta",Detalle!$K$3:$K$110,"<>Cerrado")) | I5: =IF(A5="","",COUNTIFS(Detalle!$A$3:$A$110,A5,Detalle!$G$3:$G$110,"Pendiente")) | J5: =IF(A5="","",IF(COUNTIF(Detalle!$A$3:$A$110,A5)=0,"Sin captura",IF(H5>0,"Atender antes de cierre",IF(I5>0,"Completar revisión","Puede cerrar registro")))) | K5: Captura ficticia sin detalle asociado.
A6: DEMO-004 | B6: 46272 | C6: VEH-DEMO-D | D6: 2019 | E6: 96520 | F6: Van | G6: TEC-04 | H6: =IF(A6="","",COUNTIFS(Detalle!$A$3:$A$110,A6,Detalle!$G$3:$G$110,"Alta",Detalle!$K$3:$K$110,"<>Cerrado")) | I6: =IF(A6="","",COUNTIFS(Detalle!$A$3:$A$110,A6,Detalle!$G$3:$G$110,"Pendiente")) | J6: =IF(A6="","",IF(COUNTIF(Detalle!$A$3:$A$110,A6)=0,"Sin captura",IF(H6>0,"Atender antes de cierre",IF(I6>0,"Completar revisión","Puede cerrar registro")))) | K6: Captura ficticia sin detalle asociado.
A7: DEMO-005 | B7: 46271 | C7: VEH-DEMO-E | D7: 2021 | E7: 53210 | F7: Sedán | G7: TEC-01 | H7: =IF(A7="","",COUNTIFS(Detalle!$A$3:$A$110,A7,Detalle!$G$3:$G$110,"Alta",Detalle!$K$3:$K$110,"<>Cerrado")) | I7: =IF(A7="","",COUNTIFS(Detalle!$A$3:$A$110,A7,Detalle!$G$3:$G$110,"Pendiente")) | J7: =IF(A7="","",IF(COUNTIF(Detalle!$A$3:$A$110,A7)=0,"Sin captura",IF(H7>0,"Atender antes de cierre",IF(I7>0,"Completar revisión","Puede cerrar registro")))) | K7: Captura ficticia sin detalle asociado.
A8: DEMO-006 | B8: 46270 | C8: VEH-DEMO-F | D8: 2018 | E8: 112300 | F8: Pickup | G8: TEC-02 | H8: =IF(A8="","",COUNTIFS(Detalle!$A$3:$A$110,A8,Detalle!$G$3:$G$110,"Alta",Detalle!$K$3:$K$110,"<>Cerrado")) | I8: =IF(A8="","",COUNTIFS(Detalle!$A$3:$A$110,A8,Detalle!$G$3:$G$110,"Pendiente")) | J8: =IF(A8="","",IF(COUNTIF(Detalle!$A$3:$A$110,A8)=0,"Sin captura",IF(H8>0,"Atender antes de cierre",IF(I8>0,"Completar revisión","Puede cerrar registro")))) | K8: Captura ficticia sin detalle asociado.
A9: DEMO-007 | B9: 46269 | C9: VEH-DEMO-G | D9: 2023 | E9: 28900 | F9: SUV | G9: TEC-03 | H9: =IF(A9="","",COUNTIFS(Detalle!$A$3:$A$110,A9,Detalle!$G$3:$G$110,"Alta",Detalle!$K$3:$K$110,"<>Cerrado")) | I9: =IF(A9="","",COUNTIFS(Detalle!$A$3:$A$110,A9,Detalle!$G$3:$G$110,"Pendiente")) | J9: =IF(A9="","",IF(COUNTIF(Detalle!$A$3:$A$110,A9)=0,"Sin captura",IF(H9>0,"Atender antes de cierre",IF(I9>0,"Completar revisión","Puede cerrar registro")))) | K9: Captura ficticia sin detalle asociado.
A10: DEMO-008 | B10: 46268 | C10: VEH-DEMO-H | D10: 2017 | E10: 145600 | F10: Otro | G10: TEC-04 | H10: =IF(A10="","",COUNTIFS(Detalle!$A$3:$A$110,A10,Detalle!$G$3:$G$110,"Alta",Detalle!$K$3:$K$110,"<>Cerrado")) | I10: =IF(A10="","",COUNTIFS(Detalle!$A$3:$A$110,A10,Detalle!$G$3:$G$110,"Pendiente")) | J10: =IF(A10="","",IF(COUNTIF(Detalle!$A$3:$A$110,A10)=0,"Sin captura",IF(H10>0,"Atender antes de cierre",IF(I10>0,"Completar revisión","Puede cerrar registro")))) | K10: Captura ficticia sin detalle asociado.
A11: DEMO-009 | B11: 46267 | C11: VEH-DEMO-I | D11: 2025 | E11: 8300 | F11: Sedán | G11: TEC-01 | H11: =IF(A11="","",COUNTIFS(Detalle!$A$3:$A$110,A11,Detalle!$G$3:$G$110,"Alta",Detalle!$K$3:$K$110,"<>Cerrado")) | I11: =IF(A11="","",COUNTIFS(Detalle!$A$3:$A$110,A11,Detalle!$G$3:$G$110,"Pendiente")) | J11: =IF(A11="","",IF(COUNTIF(Detalle!$A$3:$A$110,A11)=0,"Sin captura",IF(H11>0,"Atender antes de cierre",IF(I11>0,"Completar revisión","Puede cerrar registro")))) | K11: Captura ficticia sin detalle asociado.
A12: DEMO-010 | B12: 46265 | C12: VEH-DEMO-J | D12: 2016 | E12: 187450 | F12: Van | G12: TEC-02 | H12: =IF(A12="","",COUNTIFS(Detalle!$A$3:$A$110,A12,Detalle!$G$3:$G$110,"Alta",Detalle!$K$3:$K$110,"<>Cerrado")) | I12: =IF(A12="","",COUNTIFS(Detalle!$A$3:$A$110,A12,Detalle!$G$3:$G$110,"Pendiente")) | J12: =IF(A12="","",IF(COUNTIF(Detalle!$A$3:$A$110,A12)=0,"Sin captura",IF(H12>0,"Atender antes de cierre",IF(I12>0,"Completar revisión","Puede cerrar registro")))) | K12: Captura ficticia sin detalle asociado.
H13: =IF(A13="","",COUNTIFS(Detalle!$A$3:$A$110,A13,Detalle!$G$3:$G$110,"Alta",Detalle!$K$3:$K$110,"<>Cerrado")) | I13: =IF(A13="","",COUNTIFS(Detalle!$A$3:$A$110,A13,Detalle!$G$3:$G$110,"Pendiente")) | J13: =IF(A13="","",IF(COUNTIF(Detalle!$A$3:$A$110,A13)=0,"Sin captura",IF(H13>0,"Atender antes de cierre",IF(I13>0,"Completar revisión","Puede cerrar registro"))))
H14: =IF(A14="","",COUNTIFS(Detalle!$A$3:$A$110,A14,Detalle!$G$3:$G$110,"Alta",Detalle!$K$3:$K$110,"<>Cerrado")) | I14: =IF(A14="","",COUNTIFS(Detalle!$A$3:$A$110,A14,Detalle!$G$3:$G$110,"Pendiente")) | J14: =IF(A14="","",IF(COUNTIF(Detalle!$A$3:$A$110,A14)=0,"Sin captura",IF(H14>0,"Atender antes de cierre",IF(I14>0,"Completar revisión","Puede cerrar registro"))))
H15: =IF(A15="","",COUNTIFS(Detalle!$A$3:$A$110,A15,Detalle!$G$3:$G$110,"Alta",Detalle!$K$3:$K$110,"<>Cerrado")) | I15: =IF(A15="","",COUNTIFS(Detalle!$A$3:$A$110,A15,Detalle!$G$3:$G$110,"Pendiente")) | J15: =IF(A15="","",IF(COUNTIF(Detalle!$A$3:$A$110,A15)=0,"Sin captura",IF(H15>0,"Atender antes de cierre",IF(I15>0,"Completar revisión","Puede cerrar registro"))))
H16: =IF(A16="","",COUNTIFS(Detalle!$A$3:$A$110,A16,Detalle!$G$3:$G$110,"Alta",Detalle!$K$3:$K$110,"<>Cerrado")) | I16: =IF(A16="","",COUNTIFS(Detalle!$A$3:$A$110,A16,Detalle!$G$3:$G$110,"Pendiente")) | J16: =IF(A16="","",IF(COUNTIF(Detalle!$A$3:$A$110,A16)=0,"Sin captura",IF(H16>0,"Atender antes de cierre",IF(I16>0,"Completar revisión","Puede cerrar registro"))))
H17: =IF(A17="","",COUNTIFS(Detalle!$A$3:$A$110,A17,Detalle!$G$3:$G$110,"Alta",Detalle!$K$3:$K$110,"<>Cerrado")) | I17: =IF(A17="","",COUNTIFS(Detalle!$A$3:$A$110,A17,Detalle!$G$3:$G$110,"Pendiente")) | J17: =IF(A17="","",IF(COUNTIF(Detalle!$A$3:$A$110,A17)=0,"Sin captura",IF(H17>0,"Atender antes de cierre",IF(I17>0,"Completar revisión","Puede cerrar registro"))))
H18: =IF(A18="","",COUNTIFS(Detalle!$A$3:$A$110,A18,Detalle!$G$3:$G$110,"Alta",Detalle!$K$3:$K$110,"<>Cerrado")) | I18: =IF(A18="","",COUNTIFS(Detalle!$A$3:$A$110,A18,Detalle!$G$3:$G$110,"Pendiente")) | J18: =IF(A18="","",IF(COUNTIF(Detalle!$A$3:$A$110,A18)=0,"Sin captura",IF(H18>0,"Atender antes de cierre",IF(I18>0,"Completar revisión","Puede cerrar registro"))))
H19: =IF(A19="","",COUNTIFS(Detalle!$A$3:$A$110,A19,Detalle!$G$3:$G$110,"Alta",Detalle!$K$3:$K$110,"<>Cerrado")) | I19: =IF(A19="","",COUNTIFS(Detalle!$A$3:$A$110,A19,Detalle!$G$3:$G$110,"Pendiente")) | J19: =IF(A19="","",IF(COUNTIF(Detalle!$A$3:$A$110,A19)=0,"Sin captura",IF(H19>0,"Atender antes de cierre",IF(I19>0,"Completar revisión","Puede cerrar registro"))))
H20: =IF(A20="","",COUNTIFS(Detalle!$A$3:$A$110,A20,Detalle!$G$3:$G$110,"Alta",Detalle!$K$3:$K$110,"<>Cerrado")) | I20: =IF(A20="","",COUNTIFS(Detalle!$A$3:$A$110,A20,Detalle!$G$3:$G$110,"Pendiente")) | J20: =IF(A20="","",IF(COUNTIF(Detalle!$A$3:$A$110,A20)=0,"Sin captura",IF(H20>0,"Atender antes de cierre",IF(I20>0,"Completar revisión","Puede cerrar registro"))))
H21: =IF(A21="","",COUNTIFS(Detalle!$A$3:$A$110,A21,Detalle!$G$3:$G$110,"Alta",Detalle!$K$3:$K$110,"<>Cerrado")) | I21: =IF(A21="","",COUNTIFS(Detalle!$A$3:$A$110,A21,Detalle!$G$3:$G$110,"Pendiente")) | J21: =IF(A21="","",IF(COUNTIF(Detalle!$A$3:$A$110,A21)=0,"Sin captura",IF(H21>0,"Atender antes de cierre",IF(I21>0,"Completar revisión","Puede cerrar registro"))))
H22: =IF(A22="","",COUNTIFS(Detalle!$A$3:$A$110,A22,Detalle!$G$3:$G$110,"Alta",Detalle!$K$3:$K$110,"<>Cerrado")) | I22: =IF(A22="","",COUNTIFS(Detalle!$A$3:$A$110,A22,Detalle!$G$3:$G$110,"Pendiente")) | J22: =IF(A22="","",IF(COUNTIF(Detalle!$A$3:$A$110,A22)=0,"Sin captura",IF(H22>0,"Atender antes de cierre",IF(I22>0,"Completar revisión","Puede cerrar registro"))))
H23: =IF(A23="","",COUNTIFS(Detalle!$A$3:$A$110,A23,Detalle!$G$3:$G$110,"Alta",Detalle!$K$3:$K$110,"<>Cerrado")) | I23: =IF(A23="","",COUNTIFS(Detalle!$A$3:$A$110,A23,Detalle!$G$3:$G$110,"Pendiente")) | J23: =IF(A23="","",IF(COUNTIF(Detalle!$A$3:$A$110,A23)=0,"Sin captura",IF(H23>0,"Atender antes de cierre",IF(I23>0,"Completar revisión","Puede cerrar registro"))))
H24: =IF(A24="","",COUNTIFS(Detalle!$A$3:$A$110,A24,Detalle!$G$3:$G$110,"Alta",Detalle!$K$3:$K$110,"<>Cerrado")) | I24: =IF(A24="","",COUNTIFS(Detalle!$A$3:$A$110,A24,Detalle!$G$3:$G$110,"Pendiente")) | J24: =IF(A24="","",IF(COUNTIF(Detalle!$A$3:$A$110,A24)=0,"Sin captura",IF(H24>0,"Atender antes de cierre",IF(I24>0,"Completar revisión","Puede cerrar registro"))))
... H112: =IF(A112="","",COUNTIFS(Detalle!$A$3:$A$110,A112,Detalle!$G$3:$G$110,"Alta",Detalle!$K$3:$K$110,"<>Cerrado")) | I112: =IF(A112="","",COUNTIFS(Detalle!$A$3:$A$110,A112,Detalle!$G$3:$G$110,"Pendiente")) | J112: =IF(A112="","",IF(COUNTIF(Detalle!$A$3:$A$110,A112)=0,"Sin captura",IF(H112>0,"Atender antes de cierre",IF(I112>0,"Completar revisión","Puede cerrar registro"))))

Sheet Detalle
A1: Detalle de revisión | Hallazgos y seguimientos de registros DEMO ficticios
A2: Folio | B2: Punto de revisión | C2: Sistema | D2: Criterio visible | E2: Resultado | F2: Criticidad base | G2: Prioridad | H2: Observaciones | I2: Referencia de evidencia | J2: Responsable de seguimiento | K2: Estado | L2: Fecha objetivo
A3: DEMO-001 | B3: Luces delanteras | C3: =IF(B3="","",IFERROR(VLOOKUP(B3,'Catálogos'!$A$2:$D$21,2,FALSE),"REVISAR")) | D3: =IF(B3="","",IFERROR(VLOOKUP(B3,'Catálogos'!$A$2:$D$21,3,FALSE),"REVISAR")) | E3: Conforme | F3: =IF(B3="","",IFERROR(VLOOKUP(B3,'Catálogos'!$A$2:$D$21,4,FALSE),"REVISAR")) | G3: =IF(OR(A3="",E3=""),"",IF(E3="Conforme","Sin acción",IF(E3="No aplica","No aplica",IF(E3="No revisado","Pendiente",IF(AND(E3="Requiere atención",F3="Alta"),"Alta",IF(E3="Requiere atención","Media","Baja")))))) | H3: Encendido funcional durante la comprobación general. | I3: REF-DEMO-001 | J3: TEC-01 | K3: Cerrado | L3: =IF(OR(A3="",G3="",G3="Sin acción",G3="No aplica",G3="Pendiente"),"",IFERROR(VLOOKUP(G3,'Catálogos'!$G$2:$H$4,2,FALSE)+IFERROR(VLOOKUP(A3,Inspecciones!$A$3:$B$112,2,FALSE),0),""))
A4: DEMO-001 | B4: Limpiaparabrisas | C4: =IF(B4="","",IFERROR(VLOOKUP(B4,'Catálogos'!$A$2:$D$21,2,FALSE),"REVISAR")) | D4: =IF(B4="","",IFERROR(VLOOKUP(B4,'Catálogos'!$A$2:$D$21,3,FALSE),"REVISAR")) | E4: Observación | F4: =IF(B4="","",IFERROR(VLOOKUP(B4,'Catálogos'!$A$2:$D$21,4,FALSE),"REVISAR")) | G4: =IF(OR(A4="",E4=""),"",IF(E4="Conforme","Sin acción",IF(E4="No aplica","No aplica",IF(E4="No revisado","Pendiente",IF(AND(E4="Requiere atención",F4="Alta"),"Alta",IF(E4="Requiere atención","Media","Baja")))))) | H4: Movimiento funcional; se registró desgaste visible en una hoja. | I4: REF-DEMO-002 | J4: TEC-01 | K4: Abierto | L4: =IF(OR(A4="",G4="",G4="Sin acción",G4="No aplica",G4="Pendiente"),"",IFERROR(VLOOKUP(G4,'Catálogos'!$G$2:$H$4,2,FALSE)+IFERROR(VLOOKUP(A4,Inspecciones!$A$3:$B$112,2,FALSE),0),""))
A5: DEMO-001 | B5: Condición visual de llantas | C5: =IF(B5="","",IFERROR(VLOOKUP(B5,'Catálogos'!$A$2:$D$21,2,FALSE),"REVISAR")) | D5: =IF(B5="","",IFERROR(VLOOKUP(B5,'Catálogos'!$A$2:$D$21,3,FALSE),"REVISAR")) | E5: Requiere atención | F5: =IF(B5="","",IFERROR(VLOOKUP(B5,'Catálogos'!$A$2:$D$21,4,FALSE),"REVISAR")) | G5: =IF(OR(A5="",E5=""),"",IF(E5="Conforme","Sin acción",IF(E5="No aplica","No aplica",IF(E5="No revisado","Pendiente",IF(AND(E5="Requiere atención",F5="Alta"),"Alta",IF(E5="Requiere atención","Media","Baja")))))) | H5: Se registró desgaste visual irregular en una llanta. | I5: REF-DEMO-003 | J5: TEC-02 | K5: Abierto | L5: =IF(OR(A5="",G5="",G5="Sin acción",G5="No aplica",G5="Pendiente"),"",IFERROR(VLOOKUP(G5,'Catálogos'!$G$2:$H$4,2,FALSE)+IFERROR(VLOOKUP(A5,Inspecciones!$A$3:$B$112,2,FALSE),0),""))
A6: DEMO-001 | B6: Cinturones | C6: =IF(B6="","",IFERROR(VLOOKUP(B6,'Catálogos'!$A$2:$D$21,2,FALSE),"REVISAR")) | D6: =IF(B6="","",IFERROR(VLOOKUP(B6,'Catálogos'!$A$2:$D$21,3,FALSE),"REVISAR")) | E6: Conforme | F6: =IF(B6="","",IFERROR(VLOOKUP(B6,'Catálogos'!$A$2:$D$21,4,FALSE),"REVISAR")) | G6: =IF(OR(A6="",E6=""),"",IF(E6="Conforme","Sin acción",IF(E6="No aplica","No aplica",IF(E6="No revisado","Pendiente",IF(AND(E6="Requiere atención",F6="Alta"),"Alta",IF(E6="Requiere atención","Media","Baja")))))) | H6: Cierres funcionales en los lugares revisados. | I6: REF-DEMO-004 | J6: TEC-01 | K6: Cerrado | L6: =IF(OR(A6="",G6="",G6="Sin acción",G6="No aplica",G6="Pendiente"),"",IFERROR(VLOOKUP(G6,'Catálogos'!$G$2:$H$4,2,FALSE)+IFERROR(VLOOKUP(A6,Inspecciones!$A$3:$B$112,2,FALSE),0),""))
A7: DEMO-002 | B7: Fugas visibles | C7: =IF(B7="","",IFERROR(VLOOKUP(B7,'Catálogos'!$A$2:$D$21,2,FALSE),"REVISAR")) | D7: =IF(B7="","",IFERROR(VLOOKUP(B7,'Catálogos'!$A$2:$D$21,3,FALSE),"REVISAR")) | E7: No revisado | F7: =IF(B7="","",IFERROR(VLOOKUP(B7,'Catálogos'!$A$2:$D$21,4,FALSE),"REVISAR")) | G7: =IF(OR(A7="",E7=""),"",IF(E7="Conforme","Sin acción",IF(E7="No aplica","No aplica",IF(E7="No revisado","Pendiente",IF(AND(E7="Requiere atención",F7="Alta"),"Alta",IF(E7="Requiere atención","Media","Baja")))))) | H7: Zona no accesible durante esta captura general. | I7: REF-DEMO-005 | J7: TEC-02 | K7: Abierto | L7: =IF(OR(A7="",G7="",G7="Sin acción",G7="No aplica",G7="Pendiente"),"",IFERROR(VLOOKUP(G7,'Catálogos'!$G$2:$H$4,2,FALSE)+IFERROR(VLOOKUP(A7,Inspecciones!$A$3:$B$112,2,FALSE),0),""))
A8: DEMO-002 | B8: Batería y sujeción | C8: =IF(B8="","",IFERROR(VLOOKUP(B8,'Catálogos'!$A$2:$D$21,2,FALSE),"REVISAR")) | D8: =IF(B8="","",IFERROR(VLOOKUP(B8,'Catálogos'!$A$2:$D$21,3,FALSE),"REVISAR")) | E8: Conforme | F8: =IF(B8="","",IFERROR(VLOOKUP(B8,'Catálogos'!$A$2:$D$21,4,FALSE),"REVISAR")) | G8: =IF(OR(A8="",E8=""),"",IF(E8="Conforme","Sin acción",IF(E8="No aplica","No aplica",IF(E8="No revisado","Pendiente",IF(AND(E8="Requiere atención",F8="Alta"),"Alta",IF(E8="Requiere atención","Media","Baja")))))) | H8: Sujeción presente y sin daño visible relevante. | I8: REF-DEMO-006 | J8: TEC-02 | K8: Cerrado | L8: =IF(OR(A8="",G8="",G8="Sin acción",G8="No aplica",G8="Pendiente"),"",IFERROR(VLOOKUP(G8,'Catálogos'!$G$2:$H$4,2,FALSE)+IFERROR(VLOOKUP(A8,Inspecciones!$A$3:$B$112,2,FALSE),0),""))
A9: DEMO-002 | B9: Luces traseras | C9: =IF(B9="","",IFERROR(VLOOKUP(B9,'Catálogos'!$A$2:$D$21,2,FALSE),"REVISAR")) | D9: =IF(B9="","",IFERROR(VLOOKUP(B9,'Catálogos'!$A$2:$D$21,3,FALSE),"REVISAR")) | E9: Requiere atención | F9: =IF(B9="","",IFERROR(VLOOKUP(B9,'Catálogos'!$A$2:$D$21,4,FALSE),"REVISAR")) | G9: =IF(OR(A9="",E9=""),"",IF(E9="Conforme","Sin acción",IF(E9="No aplica","No aplica",IF(E9="No revisado","Pendiente",IF(AND(E9="Requiere atención",F9="Alta"),"Alta",IF(E9="Requiere atención","Media","Baja")))))) | H9: Una luz no respondió durante la comprobación funcional. | I9: REF-DEMO-007 | J9: TEC-02 | K9: En seguimiento | L9: =IF(OR(A9="",G9="",G9="Sin acción",G9="No aplica",G9="Pendiente"),"",IFERROR(VLOOKUP(G9,'Catálogos'!$G$2:$H$4,2,FALSE)+IFERROR(VLOOKUP(A9,Inspecciones!$A$3:$B$112,2,FALSE),0),""))
A10: DEMO-002 | B10: Rueda de refacción | C10: =IF(B10="","",IFERROR(VLOOKUP(B10,'Catálogos'!$A$2:$D$21,2,FALSE),"REVISAR")) | D10: =IF(B10="","",IFERROR(VLOOKUP(B10,'Catálogos'!$A$2:$D$21,3,FALSE),"REVISAR")) | E10: No aplica | F10: =IF(B10="","",IFERROR(VLOOKUP(B10,'Catálogos'!$A$2:$D$21,4,FALSE),"REVISAR")) | G10: =IF(OR(A10="",E10=""),"",IF(E10="Conforme","Sin acción",IF(E10="No aplica","No aplica",IF(E10="No revisado","Pendiente",IF(AND(E10="Requiere atención",F10="Alta"),"Alta",IF(E10="Requiere atención","Media","Baja")))))) | H10: Configuración ficticia declarada sin rueda de refacción. | I10: REF-DEMO-008 | J10: TEC-02 | K10: Cerrado | L10: =IF(OR(A10="",G10="",G10="Sin acción",G10="No aplica",G10="Pendiente"),"",IFERROR(VLOOKUP(G10,'Catálogos'!$G$2:$H$4,2,FALSE)+IFERROR(VLOOKUP(A10,Inspecciones!$A$3:$B$112,2,FALSE),0),""))
C11: =IF(B11="","",IFERROR(VLOOKUP(B11,'Catálogos'!$A$2:$D$21,2,FALSE),"REVISAR")) | D11: =IF(B11="","",IFERROR(VLOOKUP(B11,'Catálogos'!$A$2:$D$21,3,FALSE),"REVISAR")) | F11: =IF(B11="","",IFERROR(VLOOKUP(B11,'Catálogos'!$A$2:$D$21,4,FALSE),"REVISAR")) | G11: =IF(OR(A11="",E11=""),"",IF(E11="Conforme","Sin acción",IF(E11="No aplica","No aplica",IF(E11="No revisado","Pendiente",IF(AND(E11="Requiere atención",F11="Alta"),"Alta",IF(E11="Requiere atención","Media","Baja")))))) | L11: =IF(OR(A11="",G11="",G11="Sin acción",G11="No aplica",G11="Pendiente"),"",IFERROR(VLOOKUP(G11,'Catálogos'!$G$2:$H$4,2,FALSE)+IFERROR(VLOOKUP(A11,Inspecciones!$A$3:$B$112,2,FALSE),0),""))
C12: =IF(B12="","",IFERROR(VLOOKUP(B12,'Catálogos'!$A$2:$D$21,2,FALSE),"REVISAR")) | D12: =IF(B12="","",IFERROR(VLOOKUP(B12,'Catálogos'!$A$2:$D$21,3,FALSE),"REVISAR")) | F12: =IF(B12="","",IFERROR(VLOOKUP(B12,'Catálogos'!$A$2:$D$21,4,FALSE),"REVISAR")) | G12: =IF(OR(A12="",E12=""),"",IF(E12="Conforme","Sin acción",IF(E12="No aplica","No aplica",IF(E12="No revisado","Pendiente",IF(AND(E12="Requiere atención",F12="Alta"),"Alta",IF(E12="Requiere atención","Media","Baja")))))) | L12: =IF(OR(A12="",G12="",G12="Sin acción",G12="No aplica",G12="Pendiente"),"",IFERROR(VLOOKUP(G12,'Catálogos'!$G$2:$H$4,2,FALSE)+IFERROR(VLOOKUP(A12,Inspecciones!$A$3:$B$112,2,FALSE),0),""))
C13: =IF(B13="","",IFERROR(VLOOKUP(B13,'Catálogos'!$A$2:$D$21,2,FALSE),"REVISAR")) | D13: =IF(B13="","",IFERROR(VLOOKUP(B13,'Catálogos'!$A$2:$D$21,3,FALSE),"REVISAR")) | F13: =IF(B13="","",IFERROR(VLOOKUP(B13,'Catálogos'!$A$2:$D$21,4,FALSE),"REVISAR")) | G13: =IF(OR(A13="",E13=""),"",IF(E13="Conforme","Sin acción",IF(E13="No aplica","No aplica",IF(E13="No revisado","Pendiente",IF(AND(E13="Requiere atención",F13="Alta"),"Alta",IF(E13="Requiere atención","Media","Baja")))))) | L13: =IF(OR(A13="",G13="",G13="Sin acción",G13="No aplica",G13="Pendiente"),"",IFERROR(VLOOKUP(G13,'Catálogos'!$G$2:$H$4,2,FALSE)+IFERROR(VLOOKUP(A13,Inspecciones!$A$3:$B$112,2,FALSE),0),""))
C14: =IF(B14="","",IFERROR(VLOOKUP(B14,'Catálogos'!$A$2:$D$21,2,FALSE),"REVISAR")) | D14: =IF(B14="","",IFERROR(VLOOKUP(B14,'Catálogos'!$A$2:$D$21,3,FALSE),"REVISAR")) | F14: =IF(B14="","",IFERROR(VLOOKUP(B14,'Catálogos'!$A$2:$D$21,4,FALSE),"REVISAR")) | G14: =IF(OR(A14="",E14=""),"",IF(E14="Conforme","Sin acción",IF(E14="No aplica","No aplica",IF(E14="No revisado","Pendiente",IF(AND(E14="Requiere atención",F14="Alta"),"Alta",IF(E14="Requiere atención","Media","Baja")))))) | L14: =IF(OR(A14="",G14="",G14="Sin acción",G14="No aplica",G14="Pendiente"),"",IFERROR(VLOOKUP(G14,'Catálogos'!$G$2:$H$4,2,FALSE)+IFERROR(VLOOKUP(A14,Inspecciones!$A$3:$B$112,2,FALSE),0),""))
C15: =IF(B15="","",IFERROR(VLOOKUP(B15,'Catálogos'!$A$2:$D$21,2,FALSE),"REVISAR")) | D15: =IF(B15="","",IFERROR(VLOOKUP(B15,'Catálogos'!$A$2:$D$21,3,FALSE),"REVISAR")) | F15: =IF(B15="","",IFERROR(VLOOKUP(B15,'Catálogos'!$A$2:$D$21,4,FALSE),"REVISAR")) | G15: =IF(OR(A15="",E15=""),"",IF(E15="Conforme","Sin acción",IF(E15="No aplica","No aplica",IF(E15="No revisado","Pendiente",IF(AND(E15="Requiere atención",F15="Alta"),"Alta",IF(E15="Requiere atención","Media","Baja")))))) | L15: =IF(OR(A15="",G15="",G15="Sin acción",G15="No aplica",G15="Pendiente"),"",IFERROR(VLOOKUP(G15,'Catálogos'!$G$2:$H$4,2,FALSE)+IFERROR(VLOOKUP(A15,Inspecciones!$A$3:$B$112,2,FALSE),0),""))
C16: =IF(B16="","",IFERROR(VLOOKUP(B16,'Catálogos'!$A$2:$D$21,2,FALSE),"REVISAR")) | D16: =IF(B16="","",IFERROR(VLOOKUP(B16,'Catálogos'!$A$2:$D$21,3,FALSE),"REVISAR")) | F16: =IF(B16="","",IFERROR(VLOOKUP(B16,'Catálogos'!$A$2:$D$21,4,FALSE),"REVISAR")) | G16: =IF(OR(A16="",E16=""),"",IF(E16="Conforme","Sin acción",IF(E16="No aplica","No aplica",IF(E16="No revisado","Pendiente",IF(AND(E16="Requiere atención",F16="Alta"),"Alta",IF(E16="Requiere atención","Media","Baja")))))) | L16: =IF(OR(A16="",G16="",G16="Sin acción",G16="No aplica",G16="Pendiente"),"",IFERROR(VLOOKUP(G16,'Catálogos'!$G$2:$H$4,2,FALSE)+IFERROR(VLOOKUP(A16,Inspecciones!$A$3:$B$112,2,FALSE),0),""))
C17: =IF(B17="","",IFERROR(VLOOKUP(B17,'Catálogos'!$A$2:$D$21,2,FALSE),"REVISAR")) | D17: =IF(B17="","",IFERROR(VLOOKUP(B17,'Catálogos'!$A$2:$D$21,3,FALSE),"REVISAR")) | F17: =IF(B17="","",IFERROR(VLOOKUP(B17,'Catálogos'!$A$2:$D$21,4,FALSE),"REVISAR")) | G17: =IF(OR(A17="",E17=""),"",IF(E17="Conforme","Sin acción",IF(E17="No aplica","No aplica",IF(E17="No revisado","Pendiente",IF(AND(E17="Requiere atención",F17="Alta"),"Alta",IF(E17="Requiere atención","Media","Baja")))))) | L17: =IF(OR(A17="",G17="",G17="Sin acción",G17="No aplica",G17="Pendiente"),"",IFERROR(VLOOKUP(G17,'Catálogos'!$G$2:$H$4,2,FALSE)+IFERROR(VLOOKUP(A17,Inspecciones!$A$3:$B$112,2,FALSE),0),""))
C18: =IF(B18="","",IFERROR(VLOOKUP(B18,'Catálogos'!$A$2:$D$21,2,FALSE),"REVISAR")) | D18: =IF(B18="","",IFERROR(VLOOKUP(B18,'Catálogos'!$A$2:$D$21,3,FALSE),"REVISAR")) | F18: =IF(B18="","",IFERROR(VLOOKUP(B18,'Catálogos'!$A$2:$D$21,4,FALSE),"REVISAR")) | G18: =IF(OR(A18="",E18=""),"",IF(E18="Conforme","Sin acción",IF(E18="No aplica","No aplica",IF(E18="No revisado","Pendiente",IF(AND(E18="Requiere atención",F18="Alta"),"Alta",IF(E18="Requiere atención","Media","Baja")))))) | L18: =IF(OR(A18="",G18="",G18="Sin acción",G18="No aplica",G18="Pendiente"),"",IFERROR(VLOOKUP(G18,'Catálogos'!$G$2:$H$4,2,FALSE)+IFERROR(VLOOKUP(A18,Inspecciones!$A$3:$B$112,2,FALSE),0),""))
C19: =IF(B19="","",IFERROR(VLOOKUP(B19,'Catálogos'!$A$2:$D$21,2,FALSE),"REVISAR")) | D19: =IF(B19="","",IFERROR(VLOOKUP(B19,'Catálogos'!$A$2:$D$21,3,FALSE),"REVISAR")) | F19: =IF(B19="","",IFERROR(VLOOKUP(B19,'Catálogos'!$A$2:$D$21,4,FALSE),"REVISAR")) | G19: =IF(OR(A19="",E19=""),"",IF(E19="Conforme","Sin acción",IF(E19="No aplica","No aplica",IF(E19="No revisado","Pendiente",IF(AND(E19="Requiere atención",F19="Alta"),"Alta",IF(E19="Requiere atención","Media","Baja")))))) | L19: =IF(OR(A19="",G19="",G19="Sin acción",G19="No aplica",G19="Pendiente"),"",IFERROR(VLOOKUP(G19,'Catálogos'!$G$2:$H$4,2,FALSE)+IFERROR(VLOOKUP(A19,Inspecciones!$A$3:$B$112,2,FALSE),0),""))
C20: =IF(B20="","",IFERROR(VLOOKUP(B20,'Catálogos'!$A$2:$D$21,2,FALSE),"REVISAR")) | D20: =IF(B20="","",IFERROR(VLOOKUP(B20,'Catálogos'!$A$2:$D$21,3,FALSE),"REVISAR")) | F20: =IF(B20="","",IFERROR(VLOOKUP(B20,'Catálogos'!$A$2:$D$21,4,FALSE),"REVISAR")) | G20: =IF(OR(A20="",E20=""),"",IF(E20="Conforme","Sin acción",IF(E20="No aplica","No aplica",IF(E20="No revisado","Pendiente",IF(AND(E20="Requiere atención",F20="Alta"),"Alta",IF(E20="Requiere atención","Media","Baja")))))) | L20: =IF(OR(A20="",G20="",G20="Sin acción",G20="No aplica",G20="Pendiente"),"",IFERROR(VLOOKUP(G20,'Catálogos'!$G$2:$H$4,2,FALSE)+IFERROR(VLOOKUP(A20,Inspecciones!$A$3:$B$112,2,FALSE),0),""))
C21: =IF(B21="","",IFERROR(VLOOKUP(B21,'Catálogos'!$A$2:$D$21,2,FALSE),"REVISAR")) | D21: =IF(B21="","",IFERROR(VLOOKUP(B21,'Catálogos'!$A$2:$D$21,3,FALSE),"REVISAR")) | F21: =IF(B21="","",IFERROR(VLOOKUP(B21,'Catálogos'!$A$2:$D$21,4,FALSE),"REVISAR")) | G21: =IF(OR(A21="",E21=""),"",IF(E21="Conforme","Sin acción",IF(E21="No aplica","No aplica",IF(E21="No revisado","Pendiente",IF(AND(E21="Requiere atención",F21="Alta"),"Alta",IF(E21="Requiere atención","Media","Baja")))))) | L21: =IF(OR(A21="",G21="",G21="Sin acción",G21="No aplica",G21="Pendiente"),"",IFERROR(VLOOKUP(G21,'Catálogos'!$G$2:$H$4,2,FALSE)+IFERROR(VLOOKUP(A21,Inspecciones!$A$3:$B$112,2,FALSE),0),""))
C22: =IF(B22="","",IFERROR(VLOOKUP(B22,'Catálogos'!$A$2:$D$21,2,FALSE),"REVISAR")) | D22: =IF(B22="","",IFERROR(VLOOKUP(B22,'Catálogos'!$A$2:$D$21,3,FALSE),"REVISAR")) | F22: =IF(B22="","",IFERROR(VLOOKUP(B22,'Catálogos'!$A$2:$D$21,4,FALSE),"REVISAR")) | G22: =IF(OR(A22="",E22=""),"",IF(E22="Conforme","Sin acción",IF(E22="No aplica","No aplica",IF(E22="No revisado","Pendiente",IF(AND(E22="Requiere atención",F22="Alta"),"Alta",IF(E22="Requiere atención","Media","Baja")))))) | L22: =IF(OR(A22="",G22="",G22="Sin acción",G22="No aplica",G22="Pendiente"),"",IFERROR(VLOOKUP(G22,'Catálogos'!$G$2:$H$4,2,FALSE)+IFERROR(VLOOKUP(A22,Inspecciones!$A$3:$B$112,2,FALSE),0),""))
... C110: =IF(B110="","",IFERROR(VLOOKUP(B110,'Catálogos'!$A$2:$D$21,2,FALSE),"REVISAR")) | D110: =IF(B110="","",IFERROR(VLOOKUP(B110,'Catálogos'!$A$2:$D$21,3,FALSE),"REVISAR")) | F110: =IF(B110="","",IFERROR(VLOOKUP(B110,'Catálogos'!$A$2:$D$21,4,FALSE),"REVISAR")) | G110: =IF(OR(A110="",E110=""),"",IF(E110="Conforme","Sin acción",IF(E110="No aplica","No aplica",IF(E110="No revisado","Pendiente",IF(AND(E110="Requiere atención",F110="Alta"),"Alta",IF(E110="Requiere atención","Media","Baja")))))) | L110: =IF(OR(A110="",G110="",G110="Sin acción",G110="No aplica",G110="Pendiente"),"",IFERROR(VLOOKUP(G110,'Catálogos'!$G$2:$H$4,2,FALSE)+IFERROR(VLOOKUP(A110,Inspecciones!$A$3:$B$112,2,FALSE),0),""))

Sheet Catálogos
A1: Punto de revisión | B1: Sistema | C1: Criterio visible | D1: Criticidad base | G1: Prioridad | H1: Días objetivo | J1: Resultado | K1: Estado | L1: Tipo de vehículo | N1: Alcance
A2: Nivel de aceite visible | B2: Motor y fluidos | C2: Nivel dentro de las marcas visibles, sin interpretar la condición del fluido | D2: Media | G2: Alta | H2: 1 | J2: Conforme | K2: Abierto | L2: Sedán | N2: Criterios editables para una revisión visual y funcional general. No representan diagnóstico, norma, certificación ni procedimiento del fabricante.
A3: Nivel de refrigerante | B3: Motor y fluidos | C3: Nivel visible en el depósito conforme a la referencia indicada | D3: Alta | G3: Media | H3: 3 | J3: Observación | K3: En seguimiento | L3: SUV
A4: Fugas visibles | B4: Motor y fluidos | C4: Sin rastros visibles en la zona observada | D4: Alta | G4: Baja | H4: 7 | J4: Requiere atención | K4: Cerrado | L4: Pickup
A5: Batería y sujeción | B5: Sistema eléctrico | C5: Sujeción firme y terminales sin daño visible relevante | D5: Media | J5: No revisado | L5: Van
A6: Luces delanteras | B6: Iluminación | C6: Encendido y condición exterior visibles | D6: Alta | J6: No aplica | L6: Otro
A7: Luces traseras | B7: Iluminación | C7: Encendido y condición exterior visibles | D7: Alta
A8: Limpiaparabrisas | B8: Visibilidad | C8: Movimiento funcional y condición visible de las hojas | D8: Media
A9: Parabrisas | B9: Visibilidad | C9: Sin daño visible relevante en la zona observada | D9: Alta
A10: Cinturones | B10: Seguridad interior | C10: Anclaje y cierre funcionales en una revisión básica | D10: Alta
A11: Claxon | B11: Señalización | C11: Respuesta funcional al accionar | D11: Media
A12: Condición visual de llantas | B12: Llantas | C12: Sin daño evidente y con desgaste visual uniforme | D12: Alta
A13: Presión indicada | B13: Llantas | C13: Lectura disponible comparada con la referencia indicada | D13: Media
A14: Rueda de refacción | B14: Equipo | C14: Presencia y condición visual cuando sea accesible | D14: Media
A15: Freno de estacionamiento | B15: Frenos | C15: Accionamiento funcional en una revisión básica | D15: Alta
A16: Pedal de freno | B16: Frenos | C16: Recorrido y respuesta funcional observables | D16: Alta
A17: Espejos | B17: Visibilidad | C17: Presentes, ajustables y sin daño visible relevante | D17: Media
A18: Puertas y seguros | B18: Carrocería | C18: Apertura, cierre y seguros funcionales | D18: Media
... A21: Equipo básico | B21: Equipo | C21: Elementos declarados presentes durante la revisión visual | D21: Baja
